BEGIN:VCALENDAR
VERSION:2.0
PRODID:-//Rorschacher Echo - ECPv6.15.20//NONSGML v1.0//EN
CALSCALE:GREGORIAN
METHOD:PUBLISH
X-WR-CALNAME:Rorschacher Echo
X-ORIGINAL-URL:https://rorschacherecho.ch
X-WR-CALDESC:Veranstaltungen für Rorschacher Echo
REFRESH-INTERVAL;VALUE=DURATION:PT1H
X-Robots-Tag:noindex
X-PUBLISHED-TTL:PT1H
BEGIN:VTIMEZONE
TZID:Europe/Zurich
BEGIN:DAYLIGHT
TZOFFSETFROM:+0100
TZOFFSETTO:+0200
TZNAME:CEST
DTSTART:20250330T010000
END:DAYLIGHT
BEGIN:STANDARD
TZOFFSETFROM:+0200
TZOFFSETTO:+0100
TZNAME:CET
DTSTART:20251026T010000
END:STANDARD
BEGIN:DAYLIGHT
TZOFFSETFROM:+0100
TZOFFSETTO:+0200
TZNAME:CEST
DTSTART:20260329T010000
END:DAYLIGHT
BEGIN:STANDARD
TZOFFSETFROM:+0200
TZOFFSETTO:+0100
TZNAME:CET
DTSTART:20261025T010000
END:STANDARD
BEGIN:DAYLIGHT
TZOFFSETFROM:+0100
TZOFFSETTO:+0200
TZNAME:CEST
DTSTART:20270328T010000
END:DAYLIGHT
BEGIN:STANDARD
TZOFFSETFROM:+0200
TZOFFSETTO:+0100
TZNAME:CET
DTSTART:20271031T010000
END:STANDARD
END:VTIMEZONE
BEGIN:VEVENT
DTSTART;TZID=Europe/Zurich:20260314T200000
DTEND;TZID=Europe/Zurich:20260314T233000
DTSTAMP:20260420T203824
CREATED:20260102T163929Z
LAST-MODIFIED:20260102T163929Z
UID:10012218-1773518400-1773531000@rorschacherecho.ch
SUMMARY:Battle of Sounds – Unterhaltungsshow Melodia Goldach & Young Winds
DESCRIPTION:Erleben Sie am 13. und 14. März 2026 in der Wartegghalle Goldach ein musikalisches Highlight\, das Generationen verbindet: Bei «Battle of Sounds» treffen die erfahrene Melodia Goldach und die junge Regionale Jugendmusik Young Winds auf einer imposanten Doppelbühne aufeinander\, verschmelzen musikalisch und bringen gemeinsam die Region Rorschach und den Bodenseeraum zum Klingen. \nUnter der Leitung von Alexander Kübler (Melodia Goldach) und Katja Weber (Young Winds) erwartet Sie ein Feuerwerk aus Live-Musik\, Kreativität und Teamgeist. Moderiert wird der Abend von Florian Rexer und Daniel Zeiter\, die mit Charme und Humor durch das Programm führen. \nFreuen Sie sich auf einen spannenden Wettbewerb mit attraktiven Preisen\, kulinarische Genüsse ab 19:00 Uhr und eine festliche Atmosphäre bis in die späten Stunden. Ob langjähriger Fan oder neugieriger Gast – «Battle of Sounds» bietet musikalische Unterhaltung für alle Generationen! \nProgramm:\n• 19:00 Uhr: Türöffnung mit Abendkasse & Festwirtschaft\n• 20:00 Uhr: Showbeginn\n• 22:00 Uhr: Showende \nEintritt:\n• Erwachsene CHF 20.- (Abendkasse CHF 25.-)\n• Kinder bis 16 Jahre CHF 5.-
URL:https://rorschacherecho.ch/event/battle-of-sounds-unterhaltungsshow-melodia-goldach-young-winds/2026-03-14/
LOCATION:Wartegghalle Goldach\, Goldach\, Schweiz
CATEGORIES:Kultur
ATTACH;FMTTYPE=image/png:https://rorschacherecho.ch/v2/wp-content/uploads/2026/01/eventbild-battle-of-sounds.png
ORGANIZER;CN="Melodia Goldach":MAILTO:marketing@melodia.ch
END:VEVENT
END:VCALENDAR