BEGIN:VCALENDAR
VERSION:2.0
PRODID:-//Rorschacher Echo - ECPv6.15.20//NONSGML v1.0//EN
CALSCALE:GREGORIAN
METHOD:PUBLISH
X-ORIGINAL-URL:https://rorschacherecho.ch
X-WR-CALDESC:Veranstaltungen für Rorschacher Echo
REFRESH-INTERVAL;VALUE=DURATION:PT1H
X-Robots-Tag:noindex
X-PUBLISHED-TTL:PT1H
BEGIN:VTIMEZONE
TZID:Europe/Zurich
BEGIN:DAYLIGHT
TZOFFSETFROM:+0100
TZOFFSETTO:+0200
TZNAME:CEST
DTSTART:20250330T010000
END:DAYLIGHT
BEGIN:STANDARD
TZOFFSETFROM:+0200
TZOFFSETTO:+0100
TZNAME:CET
DTSTART:20251026T010000
END:STANDARD
BEGIN:DAYLIGHT
TZOFFSETFROM:+0100
TZOFFSETTO:+0200
TZNAME:CEST
DTSTART:20260329T010000
END:DAYLIGHT
BEGIN:STANDARD
TZOFFSETFROM:+0200
TZOFFSETTO:+0100
TZNAME:CET
DTSTART:20261025T010000
END:STANDARD
BEGIN:DAYLIGHT
TZOFFSETFROM:+0100
TZOFFSETTO:+0200
TZNAME:CEST
DTSTART:20270328T010000
END:DAYLIGHT
BEGIN:STANDARD
TZOFFSETFROM:+0200
TZOFFSETTO:+0100
TZNAME:CET
DTSTART:20271031T010000
END:STANDARD
END:VTIMEZONE
BEGIN:VEVENT
DTSTART;VALUE=DATE:20260530
DTEND;VALUE=DATE:20260531
DTSTAMP:20260425T192952
CREATED:20260425T114000Z
LAST-MODIFIED:20260425T114000Z
UID:10014083-1780099200-1780185599@rorschacherecho.ch
SUMMARY:Regionales Akkordeon-Musikfest Rorschach
DESCRIPTION:Das Akkordeon Orchester Rorschach-Heiden organisiert das Regionale Akkordeon-Musikfest in der Pädagogischen Hochschule Mariaberg Rorschach und schreibt dazu: „Neben dem Wettspiel\, indem sich verschiedene Vereine aus der Region und Gäste aus der ganzen Schweiz messen\, geniessen Sie in spektakulärer Kulisse Platzkonzerte\, Darbietungen des «Echo vor dä Schitterbiig»\, den «Appenzeller Vorderländern» sowie kulinarische Leckerbissen. Die Festkarte inkl. Eintritt zu den Wettspielen\, Mittagessen und Abendprogramm kostet CHF 40.00. Weitere Infos: www.ramf26rorschach.ch. \n(Plakat: pd aorh)
URL:https://rorschacherecho.ch/event/regionales-akkordeon-musikfest-rorschach/
LOCATION:PHSG Mariaberg\, Seminarstrasse 27\, Rorschach\, 9400\, Schweiz
CATEGORIES:Kultur
ATTACH;FMTTYPE=image/jpeg:https://rorschacherecho.ch/v2/wp-content/uploads/2026/04/festfuhrer-deckblatt.jpg
ORGANIZER;CN="Akkordeon Orchester Rorschach-Heiden":MAILTO:tobias.nuessli@bluewin.ch
END:VEVENT
END:VCALENDAR