BEGIN:VCALENDAR
VERSION:2.0
PRODID:-//Rorschacher Echo - ECPv6.15.20//NONSGML v1.0//EN
CALSCALE:GREGORIAN
METHOD:PUBLISH
X-ORIGINAL-URL:https://rorschacherecho.ch
X-WR-CALDESC:Veranstaltungen für Rorschacher Echo
REFRESH-INTERVAL;VALUE=DURATION:PT1H
X-Robots-Tag:noindex
X-PUBLISHED-TTL:PT1H
BEGIN:VTIMEZONE
TZID:Europe/Zurich
BEGIN:DAYLIGHT
TZOFFSETFROM:+0100
TZOFFSETTO:+0200
TZNAME:CEST
DTSTART:20250330T010000
END:DAYLIGHT
BEGIN:STANDARD
TZOFFSETFROM:+0200
TZOFFSETTO:+0100
TZNAME:CET
DTSTART:20251026T010000
END:STANDARD
BEGIN:DAYLIGHT
TZOFFSETFROM:+0100
TZOFFSETTO:+0200
TZNAME:CEST
DTSTART:20260329T010000
END:DAYLIGHT
BEGIN:STANDARD
TZOFFSETFROM:+0200
TZOFFSETTO:+0100
TZNAME:CET
DTSTART:20261025T010000
END:STANDARD
BEGIN:DAYLIGHT
TZOFFSETFROM:+0100
TZOFFSETTO:+0200
TZNAME:CEST
DTSTART:20270328T010000
END:DAYLIGHT
BEGIN:STANDARD
TZOFFSETFROM:+0200
TZOFFSETTO:+0100
TZNAME:CET
DTSTART:20271031T010000
END:STANDARD
END:VTIMEZONE
BEGIN:VEVENT
DTSTART;TZID=Europe/Zurich:20260307T143000
DTEND;TZID=Europe/Zurich:20260307T163000
DTSTAMP:20260422T094705
CREATED:20260303T074437Z
LAST-MODIFIED:20260303T074653Z
UID:10012306-1772893800-1772901000@rorschacherecho.ch
SUMMARY:Seniorennachmittag im Pfarreiheim Goldach
DESCRIPTION:Seniorennachmittag mit dem Buebechörli Stein im kath. Pfarreiheim Goldach am Samstag\, 7. März 2026\, von 14:30 bis 16:30 Uhr. \nDas Buebechörli Stein bietet Ihnen einen klangvollen Nachmittag mit jungen Stimmen\, die begeistern durch ihre Volkslieder und Zäuerli. Geniessen Sie dazu Kaffee und feines Gebäck in gemütlicher Atmosphäre. Herzliche Einladung! Auskunft: Doris Bürki\, doris.buerki@kkrr.ch\, 071 844 70 34. (Text/Bild: pd kkrr db)
URL:https://rorschacherecho.ch/event/seniorennachmittag-im-pfarreiheim-goldach/
LOCATION:Katholisches Pfarreiheim Goldach
CATEGORIES:Kultur
ATTACH;FMTTYPE=image/png:https://rorschacherecho.ch/v2/wp-content/uploads/2026/03/screenshot-2026-03-03-06-31-21.png
END:VEVENT
END:VCALENDAR