BEGIN:VCALENDAR
VERSION:2.0
PRODID:-//Rorschacher Echo - ECPv6.15.20//NONSGML v1.0//EN
CALSCALE:GREGORIAN
METHOD:PUBLISH
X-ORIGINAL-URL:https://rorschacherecho.ch
X-WR-CALDESC:Veranstaltungen für Rorschacher Echo
REFRESH-INTERVAL;VALUE=DURATION:PT1H
X-Robots-Tag:noindex
X-PUBLISHED-TTL:PT1H
BEGIN:VTIMEZONE
TZID:Europe/Zurich
BEGIN:DAYLIGHT
TZOFFSETFROM:+0100
TZOFFSETTO:+0200
TZNAME:CEST
DTSTART:20250330T010000
END:DAYLIGHT
BEGIN:STANDARD
TZOFFSETFROM:+0200
TZOFFSETTO:+0100
TZNAME:CET
DTSTART:20251026T010000
END:STANDARD
BEGIN:DAYLIGHT
TZOFFSETFROM:+0100
TZOFFSETTO:+0200
TZNAME:CEST
DTSTART:20260329T010000
END:DAYLIGHT
BEGIN:STANDARD
TZOFFSETFROM:+0200
TZOFFSETTO:+0100
TZNAME:CET
DTSTART:20261025T010000
END:STANDARD
BEGIN:DAYLIGHT
TZOFFSETFROM:+0100
TZOFFSETTO:+0200
TZNAME:CEST
DTSTART:20270328T010000
END:DAYLIGHT
BEGIN:STANDARD
TZOFFSETFROM:+0200
TZOFFSETTO:+0100
TZNAME:CET
DTSTART:20271031T010000
END:STANDARD
END:VTIMEZONE
BEGIN:VEVENT
DTSTART;VALUE=DATE:20260131
DTEND;VALUE=DATE:20260202
DTSTAMP:20260424T140956
CREATED:20251103T060138Z
LAST-MODIFIED:20251103T060138Z
UID:10011716-1769817600-1769990399@rorschacherecho.ch
SUMMARY:Schamanische Rasseln bauen in Rorschach
DESCRIPTION:Initiantin Bernadette Lutz schreibt dazu: „An diesen 2 Tagen baust du deine persönlichen schamanischen Rasseln.Die schamanischen Rasseln werden aus dem Fell des Tieres und der Pflanzenwelt hergestellt. Es werden zwei Rasseln gebaut\, eine für die männliche Schwingungsenergie und eine für die weiblichen Schwingungsenergie.Sie reinigen unseren Mentalkörper und werden auch zur Raumreinigung verwendet. Sie sind heilsame Ritualinstrumente\, welche uns Schutz schenken auf unserer Seelenreise in die Anderswelten.“ \n\nZeit: Samstag 31.1.10:00 – ca.18:00 Uhr & Sonntag 1.2.9:00 -14:00 Uhr\nAnmeldung bis 20.1.2026
URL:https://rorschacherecho.ch/event/schamanische-rasseln-bauen-in-rorschach-2/
LOCATION:Haus25 Langmoosstr.25 9400 Rorschach\, Langmoosstr.25\, Rorschach\, 9400\, Schweiz
CATEGORIES:Kultur,Lokales Gewerbe
ATTACH;FMTTYPE=image/png:https://rorschacherecho.ch/v2/wp-content/uploads/2025/11/bildschirmfoto-2021-05-26-um-145426.png
ORGANIZER;CN="Haus25 Bernadette Lutz":MAILTO:lichtarbeit@haus25.ch
END:VEVENT
END:VCALENDAR