BEGIN:VCALENDAR
VERSION:2.0
PRODID:-//Rorschacher Echo - ECPv6.15.20//NONSGML v1.0//EN
CALSCALE:GREGORIAN
METHOD:PUBLISH
X-ORIGINAL-URL:https://rorschacherecho.ch
X-WR-CALDESC:Veranstaltungen für Rorschacher Echo
REFRESH-INTERVAL;VALUE=DURATION:PT1H
X-Robots-Tag:noindex
X-PUBLISHED-TTL:PT1H
BEGIN:VTIMEZONE
TZID:Europe/Zurich
BEGIN:DAYLIGHT
TZOFFSETFROM:+0100
TZOFFSETTO:+0200
TZNAME:CEST
DTSTART:20250330T010000
END:DAYLIGHT
BEGIN:STANDARD
TZOFFSETFROM:+0200
TZOFFSETTO:+0100
TZNAME:CET
DTSTART:20251026T010000
END:STANDARD
BEGIN:DAYLIGHT
TZOFFSETFROM:+0100
TZOFFSETTO:+0200
TZNAME:CEST
DTSTART:20260329T010000
END:DAYLIGHT
BEGIN:STANDARD
TZOFFSETFROM:+0200
TZOFFSETTO:+0100
TZNAME:CET
DTSTART:20261025T010000
END:STANDARD
BEGIN:DAYLIGHT
TZOFFSETFROM:+0100
TZOFFSETTO:+0200
TZNAME:CEST
DTSTART:20270328T010000
END:DAYLIGHT
BEGIN:STANDARD
TZOFFSETFROM:+0200
TZOFFSETTO:+0100
TZNAME:CET
DTSTART:20271031T010000
END:STANDARD
END:VTIMEZONE
BEGIN:VEVENT
DTSTART;TZID=Europe/Zurich:20260517T101000
DTEND;TZID=Europe/Zurich:20260517T131000
DTSTAMP:20260422T101010
CREATED:20251120T121505Z
LAST-MODIFIED:20251120T121505Z
UID:10012116-1779012600-1779023400@rorschacherecho.ch
SUMMARY:Sonntagsbrunch
DESCRIPTION:Gemeinsam mit seinen Liebsten Zeit in einer entspannten Atmosphäre verbringen und dabei ein Brunch-Buffet geniessen. Wäre das in Kombination mit einer Schifffahrt nicht das perfekte Sonntagserlebnis?\nNicht nur die frische Seebrise und die lieblich vorbeiziehende Uferlandschaft\, auch die regelmässigen Durchsagen des Kapitäns lassen einen spüren\, dass der Brunch für einmal nicht zu Hause oder in einem Restaurant stattfindet\, sondern auf dem Schiff zum speziellen Ereignis wird. Spätestens nach dem netten „Schwatz“ mit der nautischen Crew weiss man\, dass dieser Sonntagvormittag etwas ganz Besonderes ist. \nLokale und frisch zubereitete Köstlichkeiten sowie hausgemachte Leckereien gehören ebenso zu unserem Sonntagsbrunch wie traditionelle Eierspeisen\, Zopf oder Fleisch- und Käsespezialitäten. Auch den Liebhabern warmer Küche oder süsser Speisen bereitet unser hauseigenes Gastronomieteam ein paar genussvolle Gaumenfreuden. \nEs wird darum gebeten zu beachten\, dass Tiere auf dieser Fahrt leider nicht erlaubt sind. (Text/Bild: pd sbsag) \nErwachsene: CHF 89.00\nKinder 12-15 Jahre: CHF 39.00\nKinder 6-11 Jahre: CHF 25.00\nKinder unter 6 Jahren kostenlos.
URL:https://rorschacherecho.ch/event/sonntagsbrunch/2026-05-17/
LOCATION:Hafenbahnhof Rorschach\, Hafenbahnhof Rorschach\, Hafen\, Rorschach
CATEGORIES:Kultur
ATTACH;FMTTYPE=image/jpeg:https://rorschacherecho.ch/v2/wp-content/uploads/2025/11/ea92417f93de9c7db2af3ceb6e32d35f5e21c722-7378366071.jpg
ORGANIZER;CN="Schweizerische Bodensee-Schifffahrt AG":MAILTO:info@sbsag.ch
END:VEVENT
BEGIN:VEVENT
DTSTART;TZID=Europe/Zurich:20260808T200000
DTEND;TZID=Europe/Zurich:20260809T004500
DTSTAMP:20260422T101010
CREATED:20260421T154619Z
LAST-MODIFIED:20260421T154619Z
UID:10014079-1786219200-1786236300@rorschacherecho.ch
SUMMARY:Kreuzlinger Seenachtsfest
DESCRIPTION:Die Organisatoren schreiben dazu: „Erleben Sie das spektakuläre Feuerwerk auf unserem Schiff. Geniessen Sie eine Abendfahrt an das Kreuzlinger Seenachtfest und lassen Sie sich dabei kulinarisch verwöhnen. Ob ein Gala-Menü aus der hauseigenen Küche\, ein mediterranes Buffet oder ein köstliches à la carte Angebot\, für alle ist das passende Schiff dabei. Der Höhepunkt der Fahrt bildet das bekannte Feuerwerk am Ufer des Bodensees. \nBitte beachten Sie\, dass Tiere auf dieser Fahrt leider nicht erlaubt sind. Keine Vergünstigung mit Halbtax/GA.“ \nMS Rhynegg Abfahrt 20.00 Uhr\, Rorschach\nMS Zürich Abfahrt 19.18 Uhr\, Rorschach \n(Text/Bild: pd sbs)
URL:https://rorschacherecho.ch/event/kreuzlinger-seenachtsfest/
LOCATION:Hafenbahnhof Rorschach\, Hafenbahnhof Rorschach\, Hafen\, Rorschach
CATEGORIES:Kultur
ATTACH;FMTTYPE=image/jpeg:https://rorschacherecho.ch/v2/wp-content/uploads/2026/04/3761467037e6f58ddd10613c3038eb23a852fe82-9274471702.jpg
ORGANIZER;CN="Schweizerische Bodensee-Schifffahrt AG":MAILTO:info@sbsag.ch
END:VEVENT
BEGIN:VEVENT
DTSTART;TZID=Europe/Zurich:20260912T140000
DTEND;TZID=Europe/Zurich:20260912T160000
DTSTAMP:20260422T101010
CREATED:20260330T131115Z
LAST-MODIFIED:20260330T131115Z
UID:10014027-1789221600-1789228800@rorschacherecho.ch
SUMMARY:Stadtrundgang Rorschach
DESCRIPTION:Zwischen See\, Stadt und Himmel – Rorschach im Blick eines Chronisten. \nAuf einem Rundgang durch Rorschach erleben die Teilnehmerinnen und Teilnehmer vor Ort\, wie sich die Stadt über die Jahrzehnte veränderte. Historiker Peter Müller und Autor Richard Lehner führen an die Schauplätze\, die der im vergangenen Jahr verstorbene Rorschacher Foto-Chronist Werner Seiler fotografiert und dokumentiert hat. \nDas aktuelle Heft des Kulturhistorischen Vereins Region Rorschach ist der Sammlung von Werner Seiler gewidmet. Die meisten der über 12’000 Bilder dokumentieren Rorschach seit 1963 – eine gewaltige Leistung. Die Aufnahmen entstanden überwiegend aus persönlichem Antrieb\, ohne Auftrag. Aus der obersten Wohnung des Hochhauses an der Thurgauer-\, später an der St. Gallerstrasse\, und einem Büro am Hafenplatz richtete Werner Seiler seine Kamera auf die Stadt\, auf den See und in den Himmel. Immer wieder zog es ihn hinunter in die Strassen: Er dokumentierte Feste\, Ereignisse und die Stadtentwicklung\, oft auch in der Nacht. Der Rundgang wird von zahlreichen Geschichten und Anekdoten angereichert\, die einen spannenden Einblick in die Geschichte der Stadt erlauben. \nDer Stadtrundgang endet im Forum Würth Rorschach mit Kaffee und Kuchen und einer selbstständigen Besichtigung der aktuellen Ausstellungen. \nIn Kooperation mit dem Kulturhistorischen Verein Region Rorschach. \nCHF 15.00 inkl. Kaffee und Kuchen\nMitglied des Kulturhistorischen Vereins: CHF 10.00 \nWeitere Info: Anmeldung bis 2 Tage vor der Veranstaltung unter rorschach@forum-wuerth.ch. (Text/Bild: pd würth)
URL:https://rorschacherecho.ch/event/stadtrundgang-rorschach/
LOCATION:Hafenbahnhof Rorschach\, Hafenbahnhof Rorschach\, Hafen\, Rorschach
CATEGORIES:Kultur
ATTACH;FMTTYPE=image/jpeg:https://rorschacherecho.ch/v2/wp-content/uploads/2026/03/988579d1b83e6845eb1551a75940e893895503fe-9230703741.jpg
ORGANIZER;CN="Forum W%C3%BCrth Rorschach":MAILTO:rorschach@forum-wuerth.ch
END:VEVENT
BEGIN:VEVENT
DTSTART;TZID=Europe/Zurich:20261107T191500
DTEND;TZID=Europe/Zurich:20261107T223000
DTSTAMP:20260422T101010
CREATED:20251121T141248Z
LAST-MODIFIED:20251121T141248Z
UID:10012129-1794078900-1794090600@rorschacherecho.ch
SUMMARY:Fondue/Raclette-Schiff ab Rorschach
DESCRIPTION:Zusammen speisen\, lachen\, plaudern und in geselliger Runde einen genussvollen Abend verbringen\, das verbindet und macht vor allem eins: Gute Laune. \nFalls Sie auch zu den Menschen gehören\, die Traditionen lieben\, steht Ihrem Fondue- oder Raclette-Abend auf dem Schiff nichts mehr im Weg. Speziell auserlesene Käsesorten werden zum Raclette sowie frisch zubereitete Fleischhäppchen zum Fondue Chinoise serviert. Auch alle Käsefondueliebhaber können sich am reichhaltigen Beilagenbuffet erfreuen\, alles à discrétion und wie Sie es selten anderswo vorfinden. \nUnd übrigens: Im Preis ist die über 3-stündige Schifffahrt mit charmanter Betreuung unserer nautischen Mannschaft schon inklusive. \nBitte beachten Sie\, dass Tiere auf dieser Fahrt leider nicht erlaubt sind. (Text/Bild: pd sbsag) \nErwachsene: CHF 89.00 / 79.00\nKinder 12-15 Jahre: CHF 47.00\nKinder 6-11 Jahre: CHF 24.00\nKinder unter 6 Jahren kostenlos.
URL:https://rorschacherecho.ch/event/fondue-raclette-schiff-ab-rorschach/2026-11-07/
LOCATION:Hafenbahnhof Rorschach\, Hafenbahnhof Rorschach\, Hafen\, Rorschach
CATEGORIES:Kultur
ATTACH;FMTTYPE=image/jpeg:https://rorschacherecho.ch/v2/wp-content/uploads/2025/11/12624cbe74c3b7b0b8ccb47c3eaff1c471e5edcb-7661950591.jpg
ORGANIZER;CN="Schweizerische Bodensee-Schifffahrt AG":MAILTO:info@sbsag.ch
END:VEVENT
END:VCALENDAR