BEGIN:VCALENDAR
VERSION:2.0
PRODID:-//Rorschacher Echo - ECPv6.15.20//NONSGML v1.0//EN
CALSCALE:GREGORIAN
METHOD:PUBLISH
X-ORIGINAL-URL:https://rorschacherecho.ch
X-WR-CALDESC:Veranstaltungen für Rorschacher Echo
REFRESH-INTERVAL;VALUE=DURATION:PT1H
X-Robots-Tag:noindex
X-PUBLISHED-TTL:PT1H
BEGIN:VTIMEZONE
TZID:Europe/Zurich
BEGIN:DAYLIGHT
TZOFFSETFROM:+0100
TZOFFSETTO:+0200
TZNAME:CEST
DTSTART:20250330T010000
END:DAYLIGHT
BEGIN:STANDARD
TZOFFSETFROM:+0200
TZOFFSETTO:+0100
TZNAME:CET
DTSTART:20251026T010000
END:STANDARD
BEGIN:DAYLIGHT
TZOFFSETFROM:+0100
TZOFFSETTO:+0200
TZNAME:CEST
DTSTART:20260329T010000
END:DAYLIGHT
BEGIN:STANDARD
TZOFFSETFROM:+0200
TZOFFSETTO:+0100
TZNAME:CET
DTSTART:20261025T010000
END:STANDARD
BEGIN:DAYLIGHT
TZOFFSETFROM:+0100
TZOFFSETTO:+0200
TZNAME:CEST
DTSTART:20270328T010000
END:DAYLIGHT
BEGIN:STANDARD
TZOFFSETFROM:+0200
TZOFFSETTO:+0100
TZNAME:CET
DTSTART:20271031T010000
END:STANDARD
END:VTIMEZONE
BEGIN:VEVENT
DTSTART;TZID=Europe/Zurich:20260315T170000
DTEND;TZID=Europe/Zurich:20260315T180000
DTSTAMP:20260424T104154
CREATED:20260213T211838Z
LAST-MODIFIED:20260213T211838Z
UID:10012277-1773594000-1773597600@rorschacherecho.ch
SUMMARY:Klassik & Filmmusik: Orchesterverein Rorschach mit Ignazio Pisana
DESCRIPTION:Der Orchesterverein Rorschach (Leitung: Jakob Diblik) lädt zu einem abwechslungsreichen Konzert für Streichorchester und Solo-Klarinette ein. Als Solist ist Ignazio Pisana zu hören\, Solo-Klarinettist des Sinfonieorchesters St. Gallen. \nFreier Eintritt\, Kollekte. \nAuf dem Programm stehen Werke aus Klassik und Filmmusik: \nGaetano Donizetti (1797–1848)\nAllegro für Streicher in C-Dur \nCarl Stamitz (1745–1801)\nKlarinetten-Konzert Nr. 3 in B-Dur\nAllegro moderato – Romanze – Rondo \nOttorino Respighi (1879–1936)\nAntiche Danze ed Arie per Liuto\, Suite Nr. 3\nI. Italiana – II. Arie di Corte – III. Siciliana \nEnnio Morricone (1928–2020)\nCinema Paradiso Suite\nMedley aus dem Original-Soundtrack\, Arrangement für Solo-Klarinette und Streichorchester von Stéphane Fromageot \nWeitere Informationen: www.orchester-rorschach.ch
URL:https://rorschacherecho.ch/event/klassik-filmmusik-orchesterverein-rorschach-mit-ignazio-pisana/
LOCATION:Evangelische Kirche Rorschach\, Rorschach\, 9000
CATEGORIES:Kultur
ATTACH;FMTTYPE=image/jpeg:https://rorschacherecho.ch/v2/wp-content/uploads/2026/02/ovr-plakat-a4-2026-digital-scaled.jpg
END:VEVENT
END:VCALENDAR