BEGIN:VCALENDAR
VERSION:2.0
PRODID:-//Rorschacher Echo - ECPv6.15.20//NONSGML v1.0//EN
CALSCALE:GREGORIAN
METHOD:PUBLISH
X-ORIGINAL-URL:https://rorschacherecho.ch
X-WR-CALDESC:Veranstaltungen für Rorschacher Echo
REFRESH-INTERVAL;VALUE=DURATION:PT1H
X-Robots-Tag:noindex
X-PUBLISHED-TTL:PT1H
BEGIN:VTIMEZONE
TZID:Europe/Zurich
BEGIN:DAYLIGHT
TZOFFSETFROM:+0100
TZOFFSETTO:+0200
TZNAME:CEST
DTSTART:20240331T010000
END:DAYLIGHT
BEGIN:STANDARD
TZOFFSETFROM:+0200
TZOFFSETTO:+0100
TZNAME:CET
DTSTART:20241027T010000
END:STANDARD
BEGIN:DAYLIGHT
TZOFFSETFROM:+0100
TZOFFSETTO:+0200
TZNAME:CEST
DTSTART:20250330T010000
END:DAYLIGHT
BEGIN:STANDARD
TZOFFSETFROM:+0200
TZOFFSETTO:+0100
TZNAME:CET
DTSTART:20251026T010000
END:STANDARD
BEGIN:DAYLIGHT
TZOFFSETFROM:+0100
TZOFFSETTO:+0200
TZNAME:CEST
DTSTART:20260329T010000
END:DAYLIGHT
BEGIN:STANDARD
TZOFFSETFROM:+0200
TZOFFSETTO:+0100
TZNAME:CET
DTSTART:20261025T010000
END:STANDARD
BEGIN:DAYLIGHT
TZOFFSETFROM:+0100
TZOFFSETTO:+0200
TZNAME:CEST
DTSTART:20270328T010000
END:DAYLIGHT
BEGIN:STANDARD
TZOFFSETFROM:+0200
TZOFFSETTO:+0100
TZNAME:CET
DTSTART:20271031T010000
END:STANDARD
END:VTIMEZONE
BEGIN:VEVENT
DTSTART;TZID=Europe/Zurich:20250704T110000
DTEND;TZID=Europe/Zurich:20260426T170000
DTSTAMP:20260425T232802
CREATED:20250316T135031Z
LAST-MODIFIED:20250316T135031Z
UID:10009957-1751626800-1777222800@rorschacherecho.ch
SUMMARY:Hanspeter Münch im Forum Würth
DESCRIPTION:Licht\, Raum und Farbe – Sammlung Würth und Leihgaben\nLicht\, Raum und Farbe – das sind Themen\, denen Hanspeter Münch als Maler seit mehr als fünfzig Jahren nachspürt. Seine Gemälde sind farbgewaltige Ereignisse\, die ihresgleichen suchen. Seine abstrakten Visionen\, die dennoch vielfältige\, vor allem naturhafte Assoziationen erlebbar machen\, sind ebenso rauschhaft wie konstruiert. Durch die Überlagerung unzähliger Pigmentschichten entsteht eine beeindruckende Tiefe\, die die Betrachtenden in ihren Bann zieht. \nSein Ansatz\, sich jenseits realistischer Darstellungen von Natur und Licht einer autonomen Form von Raum und Körperlichkeit zu nähern\, schafft abstrakte Farbräume von aussergewöhnlicher Intensität und einer fast barock anmutenden Raumtiefe. Die gestische Pinselschrift vermittelt zudem in höchstem Masse eine bewegte Energie\, welche die Kompositionen durchströmt. \nAnlässlich seines 85. Geburtstags würdigt das Forum Würth Rorschach den Künstler mit einer Foyer‒Ausstellung. Gezeigt werden Werke aus der Sammlung Würth sowie eine Auswahl seiner jüngsten Arbeiten\, die direkt aus dem Atelier des Künstlers stammen. (Text/Bild: pd würth) \nEintritt frei \n4.7.2025 – 30.9.2025 | 10:00 – 18:00\n1.10.2025 – 31.3.2026 | 11:00 – 17:00 | Di\, Mi\, Do\, Fr\, Sa\, So\n1.4.2026 – 26.4.2026 | 10:00 – 18:00
URL:https://rorschacherecho.ch/event/hanspeter-muench-im-forum-wuerth/
LOCATION:Forum Würth Rorschach\, Forum Würth Rorschach\, Churerstrasse 10\, Rorschach\, 9400
CATEGORIES:Kultur
ATTACH;FMTTYPE=image/jpeg:https://rorschacherecho.ch/v2/wp-content/uploads/2025/03/2a55068c08dda1e8550bb2e88086de72cc31cbd0-8600100111.jpg
ORGANIZER;CN="Forum W%C3%BCrth Rorschach":MAILTO:rorschach@forum-wuerth.ch
END:VEVENT
BEGIN:VEVENT
DTSTART;TZID=Europe/Zurich:20251001T110000
DTEND;TZID=Europe/Zurich:20260331T170000
DTSTAMP:20260425T232802
CREATED:20240924T082529Z
LAST-MODIFIED:20240924T082529Z
UID:10006458-1759316400-1774976400@rorschacherecho.ch
SUMMARY:Sport und Freizeit in Werken der Sammlung Würth
DESCRIPTION:Die Hauptausstellung widmet sich dem Phänomen des Spiels als schöpferischer Erfahrung – vom kindlichen Vergnügen bis zum Gesellschaftsspiel.\nDie neue Hauptausstellung im Forum Würth Rorschach beschäftigt sich mit Freuden und Herausforderungen\, welche Freizeitaktivitäten\, ob Sport oder Spiel mit sich bringen. Schliesslich bietet dieser Zeitvertreib nicht nur Bewegung und willkommene Abwechslung im Alltag\, sondern auch Freiräume für neue Impulse sowie Inspirationen und spielt somit eine wichtige Rolle im kreativen Prozess. \nDie Mussestunden jenseits festgelegter Spielregeln\, Zerstreuungen in unbekümmerter Freiheit\, Tagträume\, das Sich–Treibenlassen\, Umherschlendern\, Chillen oder Herumalbern prägen unser Freizeitverhalten und finden ihren Ausdruck in vielfältigen künstlerischen Formulierungen. \nIst die Kunstwelt am Ende vielleicht sogar der ultimative Spielplatz? Und ist der Geist des Wettbewerbs nicht nur in der modernen Gesellschaft\, sondern auch im künstlerischen Milieu allgegenwärtig? Nebst den klassischen sportlichen Aktivitäten und Freizeitbeschäftigungen\, die auch rund um das Würth Haus Rorschach am Bodenseeufer zu beobachten sind\, wie Schwimmen\, Segeln oder Radfahren\, widmet sich die Hauptausstellung dem Phänomen des Spiels als schöpferischer Erfahrung – vom kindlichen Vergnügen bis zum Gesellschaftsspiel. \n18.3.2025 – 31.3.2025 | 11:00 – 17:00 | Di\,Mi\,Do\,Fr\,Sa\,So\n1.4.2025 – 30.9.2025 | 10:00 – 18:00\n1.10.2025 – 31.3.2026 | 11:00 – 17:00 | Di\,Mi\,Do\,Fr\,Sa\,So\n1.4.2026 – 30.9.2026 | 10:00 – 18:00\n1.10.2026 – 14.2.2027 | 11:00 – 17:00 | Di\,Mi\,Do\,Fr\,Sa\,So
URL:https://rorschacherecho.ch/event/sport-und-freizeit-in-werken-der-sammlung-wuerth-3/
LOCATION:Forum Würth Rorschach\, Forum Würth Rorschach\, Churerstrasse 10\, Rorschach\, 9400
CATEGORIES:Kultur
ATTACH;FMTTYPE=image/jpeg:https://rorschacherecho.ch/v2/wp-content/uploads/2024/09/584e85633def0e112eb54aff7818a60c6864d2e5-8284686041-2.jpg
ORGANIZER;CN="Forum W%C3%BCrth Rorschach":MAILTO:rorschach@forum-wuerth.ch
END:VEVENT
BEGIN:VEVENT
DTSTART;TZID=Europe/Zurich:20260128T153000
DTEND;TZID=Europe/Zurich:20260128T180000
DTSTAMP:20260425T232802
CREATED:20251112T080653Z
LAST-MODIFIED:20251112T080653Z
UID:10012062-1769614200-1769623200@rorschacherecho.ch
SUMMARY:Ludothek Rorschach-Rorschacherberg
DESCRIPTION:Die Ludothek Rorschach-Rorschacherberg fördert und fordert das Spielen als aktive Freizeitgestaltung und wichtiges Kulturgut. Ähnlich wie in einer Bibliothek können in einer Ludothek Spielsachen ausgeliehen werden. Die „Ludo“ steht allen offen; Kindern\, Erwachsenen\, Institutionen\, Schulen\, etc.
URL:https://rorschacherecho.ch/event/ludothek-rorschach-rorschacherberg/2026-01-28/
LOCATION:Kirchstrasse 3\, Kirchstrasse 3\, Rorschach\, 9400
CATEGORIES:Kultur
ATTACH;FMTTYPE=image/jpeg:https://rorschacherecho.ch/v2/wp-content/uploads/2025/11/logo-mit-ortschaft.jpg
END:VEVENT
BEGIN:VEVENT
DTSTART;TZID=Europe/Zurich:20260129T140000
DTEND;TZID=Europe/Zurich:20260129T160000
DTSTAMP:20260425T232802
CREATED:20251111T165108Z
LAST-MODIFIED:20251111T165108Z
UID:10011803-1769695200-1769702400@rorschacherecho.ch
SUMMARY:Stricken/Häkeln & ALPAKA-Lädeli\, Lutzenberg
DESCRIPTION:„Wir kreieren zusammen Handschuhe\, Mützen\, Taschen\, Finken\, Sauerteig-Brot\, Natur-Seifen\, usw. für CHF 20.- pro Handwerk (exkl. Material)\, mit Anmeldung (078 855 90 09 oder WhatsApp)“. (Bild: pd)
URL:https://rorschacherecho.ch/event/stricken-haekeln-alpaka-laedeli-lutzenberg/2026-01-29/
LOCATION:Lutzenberg\, Gstell 749\, Lutzenberg\, 9426
CATEGORIES:Lokales Gewerbe
ATTACH;FMTTYPE=image/jpeg:https://rorschacherecho.ch/v2/wp-content/uploads/2025/11/1000129674.jpg
ORGANIZER;CN="WOOLart.shop":MAILTO:nadiarohner@bluewin.ch
END:VEVENT
BEGIN:VEVENT
DTSTART;TZID=Europe/Zurich:20260129T190000
DTEND;TZID=Europe/Zurich:20260129T203000
DTSTAMP:20260425T232802
CREATED:20231024T122255Z
LAST-MODIFIED:20240208T120934Z
UID:10003377-1769713200-1769718600@rorschacherecho.ch
SUMMARY:Kundalini Yoga
DESCRIPTION:Dieses äusserst kreative Yogasystem besteht aus Variationen der klassischen 84 Körperhaltungen (Asanas)\, die in festgelegten Übungsreihen (Kriyas) unterschiedlichste Erfahrungen ermöglichen. Atemführung (Pranayam) spielt dabei eine fundamentale Rolle. Die zwei Hauptformen sind der lange tiefe Atem (beruhigend) und der Feueratem (belebend). Die Wissenschaft des Klangs (Naad) wird im KY über Chanten\, aber auch über den Einsatz von Musik zu den Kriyas und in den Meditationen eingesetzt. Die Tiefenentspannung (Shavasana) ist eine Königshaltung. Erst im Zustand der Ruhe können sich die erweckten Impulse auf allen Ebenen des Seins entfalten.\nAuf körperlicher Ebene kurbelt Kundalini Yoga den Blut- und Kreislauf an\, stärkt das Nervensystem\, kräftigt das Drüsen- und Immunsystem\, regt die Verdauungsorgane an\, trainiert umfassend den Bewegungsapparat – insbesondere die Wirbelsäule – unterstützt einzelne Organe gezielt in ihrer Funktion und schult die Ausdauer. Auf höherer Ebene geht es im Kundalini Yoga (Yoga = Vereinigung\, Verbindung) darum\, ins wahre Bewusstsein zu kommen. \nDas findet neu im „dance4you“ an der Kirchstrasse 13A in Rorschach statt.
URL:https://rorschacherecho.ch/event/kundalini-yoga/2026-01-29/
LOCATION:dance4you\, Kirchstrasse 13A\, Rorschach\, Signalstrasse 15\, Rorschach\, 9400
CATEGORIES:Sport
ATTACH;FMTTYPE=image/jpeg:https://rorschacherecho.ch/v2/wp-content/uploads/2023/10/shuniya-logoblumeschriftzugclaim.jpeg
ORGANIZER;CN="Hanspeter W%C3%B6hrle":MAILTO:hp.woehrle@shuniya.ch
END:VEVENT
BEGIN:VEVENT
DTSTART;TZID=Europe/Zurich:20260130T140000
DTEND;TZID=Europe/Zurich:20260130T160000
DTSTAMP:20260425T232802
CREATED:20250924T120958Z
LAST-MODIFIED:20250924T120958Z
UID:10011605-1769781600-1769788800@rorschacherecho.ch
SUMMARY:ErzählCafé - Alltag Adé - Freizeit Hallo
DESCRIPTION:Geschichten erzählen\, zuhören\, verbinden\nGespräche mit Tiefgang sind selten. Im ErzählCafé geht es ums echte Leben. Wir erzählen uns\, was wir zum Thema «Erfolgserlebnisse» zu berichten und erzählen haben. Und wir hören einander zu und erhalten so Einblick ins Leben anderer Menschen. Sie treffen Personen\, deren Weg Sie vielleicht nie gekreuzt hätten. Es braucht keine Vorkenntnisse\, denn jede und jeder hat Geschichten\, die es wert sind\, gehört zu werden. \nDie Moderatorin führt anhand eines Kunstwerks ins Thema ein und eröffnet damit die Gesprächsrunde. Alle hören einander zu\, ohne zu urteilen. Lassen Sie sich überraschen\, inspirieren und berühren. Und natürlich wird auch gelacht. \nThema: Alltag Adé – Freizeit Hallo\nWie sieht Ihr freier Tag aus? Vielleicht klingt er nach dem sanften Plätschern des Wassers am See\, nach fröhlichem Lachen oder nach dem Staunen über Kunst im Museum. Manche suchen Bewegung\, andere Inspiration oder Ruhe. Freizeit hat viele Gesichter: spontane Ausflüge\, wöchentlicher Sport\, feste Rituale oder stille Rückzugsorte. Was bedeutet Freizeit und Erholung für Sie heute? Und wie hat sich das Empfinden von Freizeit im Laufe der Zeit gewandelt? \nEintritt frei \nWeitere Info: Anmeldung bis 2 Tage vor der Veranstaltung mit Angabe der Telefonnummer unter rorschach@forum-wuerth.ch. (Text/Bild: pd würth)
URL:https://rorschacherecho.ch/event/erzaehlcafe-alltag-ade-freizeit-hallo/
LOCATION:Forum Würth Rorschach\, Forum Würth Rorschach\, Churerstrasse 10\, Rorschach\, 9400
CATEGORIES:Kultur
ATTACH;FMTTYPE=image/jpeg:https://rorschacherecho.ch/v2/wp-content/uploads/2025/09/73c3764cf599dde1b4abc3c02bccaf6a467cdd66-8938427761.jpg
ORGANIZER;CN="Forum W%C3%BCrth Rorschach":MAILTO:rorschach@forum-wuerth.ch
END:VEVENT
BEGIN:VEVENT
DTSTART;TZID=Europe/Zurich:20260130T183000
DTEND;TZID=Europe/Zurich:20260130T200000
DTSTAMP:20260425T232802
CREATED:20260121T055331Z
LAST-MODIFIED:20260121T055331Z
UID:10012248-1769797800-1769803200@rorschacherecho.ch
SUMMARY:Doris Beck liest in der Arcade in Rorschach
DESCRIPTION:Ein Abend\, der Raum für leise Gedanken lässt. ✨ \nDoris Beck liest aus ihrem Buch „Gespräche mit dir“ – Texte über Verlust\, Stille und das Weitergehen\, entstanden aus Momenten\, die viele von uns kennen und fühlen.\n\nBegleitet von sanfter Musik entfaltet sich eine warme Atmosphäre. Im persönlichen Interview mit der Autorin entsteht Raum für Nähe\, Austausch und Gedanken – auch Fragen aus dem Publikum sind willkommen.\n\nNach der Lesung gibt es die Möglichkeit zum persönlichen Gespräch\, Bücher sind vor Ort erhältlich und können individuell signiert werden.\n\n📖 Eine Lesung zum Zuhören\, Mitfühlen und Dableiben.\n\n📅 Freitag\, 30. Januar\n🕡 ab 18:30 Uhr\n📍 Café Bar Arcade\, Hauptstrasse 50\, Rorschach\n\n👉 Komm vorbei\, nimm Platz und lass dich berühren.\n👉 Bring jemanden mit\, mit dem du diesen Abend teilen möchtest. (Text: pd im)
URL:https://rorschacherecho.ch/event/doris-beck-liest-in-der-arcade-in-rorschach/
CATEGORIES:Kultur
ATTACH;FMTTYPE=image/jpeg:https://rorschacherecho.ch/v2/wp-content/uploads/2026/01/img-7342-scaled.jpeg
END:VEVENT
BEGIN:VEVENT
DTSTART;VALUE=DATE:20260131
DTEND;VALUE=DATE:20260202
DTSTAMP:20260425T232802
CREATED:20251103T060138Z
LAST-MODIFIED:20251103T060138Z
UID:10011716-1769817600-1769990399@rorschacherecho.ch
SUMMARY:Schamanische Rasseln bauen in Rorschach
DESCRIPTION:Initiantin Bernadette Lutz schreibt dazu: „An diesen 2 Tagen baust du deine persönlichen schamanischen Rasseln.Die schamanischen Rasseln werden aus dem Fell des Tieres und der Pflanzenwelt hergestellt. Es werden zwei Rasseln gebaut\, eine für die männliche Schwingungsenergie und eine für die weiblichen Schwingungsenergie.Sie reinigen unseren Mentalkörper und werden auch zur Raumreinigung verwendet. Sie sind heilsame Ritualinstrumente\, welche uns Schutz schenken auf unserer Seelenreise in die Anderswelten.“ \n\nZeit: Samstag 31.1.10:00 – ca.18:00 Uhr & Sonntag 1.2.9:00 -14:00 Uhr\nAnmeldung bis 20.1.2026
URL:https://rorschacherecho.ch/event/schamanische-rasseln-bauen-in-rorschach-2/
LOCATION:Haus25 Langmoosstr.25 9400 Rorschach\, Langmoosstr.25\, Rorschach\, 9400\, Schweiz
CATEGORIES:Kultur,Lokales Gewerbe
ATTACH;FMTTYPE=image/png:https://rorschacherecho.ch/v2/wp-content/uploads/2025/11/bildschirmfoto-2021-05-26-um-145426.png
ORGANIZER;CN="Haus25 Bernadette Lutz":MAILTO:lichtarbeit@haus25.ch
END:VEVENT
BEGIN:VEVENT
DTSTART;TZID=Europe/Zurich:20260131T090000
DTEND;TZID=Europe/Zurich:20260131T103000
DTSTAMP:20260425T232802
CREATED:20240113T142235Z
LAST-MODIFIED:20240113T142235Z
UID:10004810-1769850000-1769855400@rorschacherecho.ch
SUMMARY:Buchtreff im Gönndircafé in Rorschach
DESCRIPTION:Die Initiantin schreibt dazu: „Hast du Lust über dein Lieblingsbuch zu diskutieren und dich mit Gleichgesinnten zu unterhalten? Wir treffen uns jeden letzten Samstag im Monat und reden über Bücher.“ (Plakat: pd gdcr fd)
URL:https://rorschacherecho.ch/event/buchtreff-im-goenndircafe-in-rorschach/2026-01-31/
LOCATION:Gönndircafe\, Signalstr. 15\, 9400\, Rorschach
ATTACH;FMTTYPE=image/png:https://rorschacherecho.ch/v2/wp-content/uploads/2024/01/yellow-and-black-geometric-book-fair-instagram-story1.png
ORGANIZER;CN="G%C3%B6nndircafe":MAILTO:info@gönndircafe.ch
END:VEVENT
BEGIN:VEVENT
DTSTART;TZID=Europe/Zurich:20260131T100000
DTEND;TZID=Europe/Zurich:20260131T113000
DTSTAMP:20260425T232802
CREATED:20240410T090800Z
LAST-MODIFIED:20240410T090923Z
UID:10005598-1769853600-1769859000@rorschacherecho.ch
SUMMARY:Buchtreff im GönnDirCafé Rorschach
DESCRIPTION:Fabia schreibt dazu: „Wir treffen uns einmal im Monat immer am letzten Samstag. Wir lieben Bücher und freuen uns darüber zu diskutieren und auszutauschen. Keine Anmeldung erforderlich.“
URL:https://rorschacherecho.ch/event/buchtreff-im-goenndircafe-rorschach/2026-01-31/
LOCATION:Gönndircafe\, Signalstr. 15\, 9400\, Rorschach
CATEGORIES:Kultur
ATTACH;FMTTYPE=image/png:https://rorschacherecho.ch/v2/wp-content/uploads/2024/04/buchtreff-jeweils-am-samstag.png
ORGANIZER;CN="G%C3%B6nndircafe":MAILTO:info@gönndircafe.ch
END:VEVENT
BEGIN:VEVENT
DTSTART;TZID=Europe/Zurich:20260131T150000
DTEND;TZID=Europe/Zurich:20260131T170000
DTSTAMP:20260425T232802
CREATED:20250924T122145Z
LAST-MODIFIED:20250924T122145Z
UID:10011598-1769871600-1769878800@rorschacherecho.ch
SUMMARY:Art for Tea
DESCRIPTION:Kurzführung mit anschliessendem Afternoon Tea. \nWas gibt es Schöneres als einen nebligen Herbstnachmittag nach einer mitreissenden Kurzführung durch die aktuelle Ausstellung im KunstCafé heimelig ausklingen zu lassen? Besucherinnen und Besucher fühlen sich «very british» bei Afternoon Tea\, Scones\, herzhaften Sandwiches und feinem Gebäck. \nCHF 35.50 pro Person\n15.00 ‒ 15.30 Uhr: Kurzführung durch die Ausstellung\n15.30 ‒ 17.00 Uhr: Afternoon Tea\nWeitere Info: Anmeldung bis Mittwoch vor der Veranstaltung unter rorschach@forum-wuerth.ch. (Text/Bild: pd würth)
URL:https://rorschacherecho.ch/event/art-for-tea/2026-01-31/
LOCATION:Forum Würth Rorschach\, Forum Würth Rorschach\, Churerstrasse 10\, Rorschach\, 9400
CATEGORIES:Kultur
ATTACH;FMTTYPE=image/jpeg:https://rorschacherecho.ch/v2/wp-content/uploads/2025/09/3ad11b189baeb418bde0a1776bfdca46dcd40401-6277857291.jpg
ORGANIZER;CN="Forum W%C3%BCrth Rorschach":MAILTO:rorschach@forum-wuerth.ch
END:VEVENT
BEGIN:VEVENT
DTSTART;TZID=Europe/Zurich:20260201T093000
DTEND;TZID=Europe/Zurich:20260201T120000
DTSTAMP:20260425T232802
CREATED:20250924T122347Z
LAST-MODIFIED:20250924T122347Z
UID:10011567-1769938200-1769947200@rorschacherecho.ch
SUMMARY:Kunst zum Frühstück
DESCRIPTION:Feines Frühstück und spannende Einblicke in die faszinierende Welt der aktuell ausgestellten Kunst.\nDie BesucherInnen lassen sich bei einem köstlichen Frühstück im KunstCafé mit atemberaubendem Blick auf den Bodensee verwöhnen. Anschliessend entführt ein Rundgang durch die aktuellen Ausstellungen in die faszienrende Welt der Kunst. \nFrühstücksauswahl:\n«Schwiizer Zmorge»\, der Klassiker mit Birchermüesli\, Konfitüre und Honig \n«Härzhafte Zmorge»\, der Rustikale mit regionaler Wurst und Käse. \nDazu werden verschiedene Brötchen\, Gipfeli sowie zwei Heissgetränke und ein Glas Orangensaft serviert. \nCHF 35.50 pro Person\n09.30 ‒ 11.00 Uhr Frühstück\n11.00 ‒ 12.00 Uhr Kunstführung\nWeitere Info: Anmeldung inkl. Angabe der Frühstückswahl bis Mittwoch vor der Veranstaltung unter rorschach@forum-wuerth.ch. (Text/Bild: pd würth)
URL:https://rorschacherecho.ch/event/kunst-zum-fruehstueck/2026-02-01/
LOCATION:Forum Würth Rorschach\, Forum Würth Rorschach\, Churerstrasse 10\, Rorschach\, 9400
CATEGORIES:Kultur
ATTACH;FMTTYPE=image/jpeg:https://rorschacherecho.ch/v2/wp-content/uploads/2025/09/4386b95026fa70d7ed42ca892975498f36576a3d-6268202801.jpg
ORGANIZER;CN="Forum W%C3%BCrth Rorschach":MAILTO:rorschach@forum-wuerth.ch
END:VEVENT
BEGIN:VEVENT
DTSTART;TZID=Europe/Zurich:20260201T130000
DTEND;TZID=Europe/Zurich:20260201T153000
DTSTAMP:20260425T232802
CREATED:20250924T062125Z
LAST-MODIFIED:20250924T062125Z
UID:10011545-1769950800-1769959800@rorschacherecho.ch
SUMMARY:Explora präsentiert: Bis zum Horizont
DESCRIPTION:Live-Reportage von Anabela und Jorge Valente.\nZehn Jahre lang erkunden Anabela und Jorge Valente die Welt mit dem Motorrad. Unterwegs leben sie mit Nomaden in Kirgistan und Indigenen in Brasilien\, besuchen Hindu-Feste in Malaysia und buddhistische Zeremonien in Laos. In Chile laufen sie um ihr Leben\, als sie bei einem Erdbeben der Stärke 8 vor einem Tsunami flüchten müssen. Ihre Neugierde für verschiedene Kulturen und ihre Leidenschaft für Fotografie und Storytelling ist heute ihr Beruf. \nAls Jorge Valente sieben Jahre alt ist\, erleidet sein Vater einen schweren Arbeitsunfall und lebt fortan ohne Beine. Der junge Jorge erlebt\, wie brutal das Schicksal sein kann und wie wertvoll und fragil die Zeit ist\, die der Mensch hat. Es gilt\, keine Sekunde zu verlieren. Schon als junge Erwachsene beschliessen er und seine Partnerin Anabela\, die gewohnte Umgebung aufzugeben und ihre Träume zu leben. \nFür Anabela und Jorge Valente kann ein gewöhnlicher Tag aus einer neunstündigen Grenzüberquerung nach Kasachstan\, einer Mitfahrgelegenheit im Leichenwagen oder einer Feuerbestattung auf Bali bestehen. Aufregende\, lustige und skurrile Momente passieren ihnen am laufenden Band. Ihr Antrieb ist das berauschende Freiheitsgefühl\, das sie erleben\, wenn sie mit dem Motorrad durch die Welt fahren und dabei Menschen aus völlig fremden Kulturen in Freundschaft und auf Augenhöhe begegnen dürfen. \nAb CHF 22.00. (Bild: pd explora)
URL:https://rorschacherecho.ch/event/explora-praesentiert-bis-zum-horizont/
LOCATION:Würth Haus Rorschach\, Churerstrasse 10\, Rorschach\, Schweiz
CATEGORIES:Kultur
ATTACH;FMTTYPE=image/jpeg:https://rorschacherecho.ch/v2/wp-content/uploads/2025/09/d0cbed114fed7d9b35cb687c901bdb2abdcd0421-8938427791.jpg
ORGANIZER;CN="W%C3%BCrth Haus Rorschach":MAILTO:events@wuerth-management.com
END:VEVENT
BEGIN:VEVENT
DTSTART;TZID=Europe/Zurich:20260201T150000
DTEND;TZID=Europe/Zurich:20260201T154500
DTSTAMP:20260425T232802
CREATED:20250924T122240Z
LAST-MODIFIED:20250924T122240Z
UID:10011586-1769958000-1769960700@rorschacherecho.ch
SUMMARY:Öffentliche Kunstführung
DESCRIPTION:Rundgang durch die aktuelle Ausstellung.\nDie Kunstführung gibt einen Überblick über den Inhalt und die Idee der Wechselausstellungen des Forum Würth Rorschach und weist anhand ausgewählter Exponate auf die thematischen Schwerpunkte hin. \nCHF 10.00. (Text/Bild: pd würth)
URL:https://rorschacherecho.ch/event/oeffentliche-kunstfuehrung-2/2026-02-01/
LOCATION:Forum Würth Rorschach\, Forum Würth Rorschach\, Churerstrasse 10\, Rorschach\, 9400
CATEGORIES:Kultur
ATTACH;FMTTYPE=image/jpeg:https://rorschacherecho.ch/v2/wp-content/uploads/2025/09/ed479bb5fb56df2b7a2661f1d393877202363ffe-8933011071.jpg
ORGANIZER;CN="Forum W%C3%BCrth Rorschach":MAILTO:rorschach@forum-wuerth.ch
END:VEVENT
BEGIN:VEVENT
DTSTART;TZID=Europe/Zurich:20260201T170000
DTEND;TZID=Europe/Zurich:20260201T193000
DTSTAMP:20260425T232802
CREATED:20250924T062316Z
LAST-MODIFIED:20250924T062316Z
UID:10011546-1769965200-1769974200@rorschacherecho.ch
SUMMARY:Explora präsentiert: Abgedreht - von Kapstadt nach Wien
DESCRIPTION:Reise-Comedy von Johanna und Tanja.\nJohanna und Tanja radeln als Liebespaar quer durch Afrika und den Nahen Osten. Je nach Sitten- und Gesetzeslage sorgt das unterwegs für einige Verwirrung. Homophobie ist jedoch ihre geringste Sorge\, viel mehr machen ihnen nächtliche Elefantenbesuche\, Flussquerungen und ihr andauerndes Beziehungs-Chaos zu schaffen. In einer einzigartigen Comedy-Show schleifen sie ihr Publikum durch den afrikanischen Busch\, durch Wüsten und zu den Bergvölkern des Iran. \nDie Reise von Kapstadt nach Wien dauert 15 Monate\, dabei fahren Tanja und Johanna 24’000 Kilometer weit durch 21 Länder. Es ist ihre erste grosse gemeinsame Fahrradtour. Sie testen nicht nur Muskeln und Nerven\, sondern auch ihre Beziehung\, denn so ein Abenteuer wird schnell zur Zerreissprobe. Sie schreien einander an\, lachen einander aus und erinnern einander daran\, Ruhe zu bewahren\, wenn die andere mal wieder die Nerven verliert. Was oft genug vorkommt ‒ auch auf der Bühne. \nAusgestattet mit Stirnlampen\, Zelt und Fahrrädern laden Johanna Hochedlinger und Tanja Willers ihr Publikum auf eine zweistündige Odyssee zum Mitlachen\, Mitfiebern und Mitstaunen ein. Sie bieten eine unkonventionelle Liveshow voller skurriler Begebenheiten\, komischer Verwechslungsgeschichten und einem unmoralischen Wassermelonenangebot. An den Discovery Days gewannen Sie dafür den 1. Platz. \nAb CHF 22.00. (Bild: pd explora)
URL:https://rorschacherecho.ch/event/explora-praesentiert-abgedreht-von-kapstadt-nach-wien/
LOCATION:Würth Haus Rorschach
CATEGORIES:Kultur
ATTACH;FMTTYPE=image/jpeg:https://rorschacherecho.ch/v2/wp-content/uploads/2025/09/b8c45b937312222798aaa7a43cf491d2c904437c-8938427801.jpg
ORGANIZER;CN="W%C3%BCrth Haus Rorschach":MAILTO:events@wuerth-management.com
END:VEVENT
END:VCALENDAR