BEGIN:VCALENDAR
VERSION:2.0
PRODID:-//Rorschacher Echo - ECPv6.15.20//NONSGML v1.0//EN
CALSCALE:GREGORIAN
METHOD:PUBLISH
X-WR-CALNAME:Rorschacher Echo
X-ORIGINAL-URL:https://rorschacherecho.ch
X-WR-CALDESC:Veranstaltungen für Rorschacher Echo
REFRESH-INTERVAL;VALUE=DURATION:PT1H
X-Robots-Tag:noindex
X-PUBLISHED-TTL:PT1H
BEGIN:VTIMEZONE
TZID:Europe/Zurich
BEGIN:DAYLIGHT
TZOFFSETFROM:+0100
TZOFFSETTO:+0200
TZNAME:CEST
DTSTART:20240331T010000
END:DAYLIGHT
BEGIN:STANDARD
TZOFFSETFROM:+0200
TZOFFSETTO:+0100
TZNAME:CET
DTSTART:20241027T010000
END:STANDARD
BEGIN:DAYLIGHT
TZOFFSETFROM:+0100
TZOFFSETTO:+0200
TZNAME:CEST
DTSTART:20250330T010000
END:DAYLIGHT
BEGIN:STANDARD
TZOFFSETFROM:+0200
TZOFFSETTO:+0100
TZNAME:CET
DTSTART:20251026T010000
END:STANDARD
BEGIN:DAYLIGHT
TZOFFSETFROM:+0100
TZOFFSETTO:+0200
TZNAME:CEST
DTSTART:20260329T010000
END:DAYLIGHT
BEGIN:STANDARD
TZOFFSETFROM:+0200
TZOFFSETTO:+0100
TZNAME:CET
DTSTART:20261025T010000
END:STANDARD
BEGIN:DAYLIGHT
TZOFFSETFROM:+0100
TZOFFSETTO:+0200
TZNAME:CEST
DTSTART:20270328T010000
END:DAYLIGHT
BEGIN:STANDARD
TZOFFSETFROM:+0200
TZOFFSETTO:+0100
TZNAME:CET
DTSTART:20271031T010000
END:STANDARD
END:VTIMEZONE
BEGIN:VEVENT
DTSTART;TZID=Europe/Zurich:20250704T110000
DTEND;TZID=Europe/Zurich:20260426T170000
DTSTAMP:20260426T005113
CREATED:20250316T135031Z
LAST-MODIFIED:20250316T135031Z
UID:10009957-1751626800-1777222800@rorschacherecho.ch
SUMMARY:Hanspeter Münch im Forum Würth
DESCRIPTION:Licht\, Raum und Farbe – Sammlung Würth und Leihgaben\nLicht\, Raum und Farbe – das sind Themen\, denen Hanspeter Münch als Maler seit mehr als fünfzig Jahren nachspürt. Seine Gemälde sind farbgewaltige Ereignisse\, die ihresgleichen suchen. Seine abstrakten Visionen\, die dennoch vielfältige\, vor allem naturhafte Assoziationen erlebbar machen\, sind ebenso rauschhaft wie konstruiert. Durch die Überlagerung unzähliger Pigmentschichten entsteht eine beeindruckende Tiefe\, die die Betrachtenden in ihren Bann zieht. \nSein Ansatz\, sich jenseits realistischer Darstellungen von Natur und Licht einer autonomen Form von Raum und Körperlichkeit zu nähern\, schafft abstrakte Farbräume von aussergewöhnlicher Intensität und einer fast barock anmutenden Raumtiefe. Die gestische Pinselschrift vermittelt zudem in höchstem Masse eine bewegte Energie\, welche die Kompositionen durchströmt. \nAnlässlich seines 85. Geburtstags würdigt das Forum Würth Rorschach den Künstler mit einer Foyer‒Ausstellung. Gezeigt werden Werke aus der Sammlung Würth sowie eine Auswahl seiner jüngsten Arbeiten\, die direkt aus dem Atelier des Künstlers stammen. (Text/Bild: pd würth) \nEintritt frei \n4.7.2025 – 30.9.2025 | 10:00 – 18:00\n1.10.2025 – 31.3.2026 | 11:00 – 17:00 | Di\, Mi\, Do\, Fr\, Sa\, So\n1.4.2026 – 26.4.2026 | 10:00 – 18:00
URL:https://rorschacherecho.ch/event/hanspeter-muench-im-forum-wuerth/
LOCATION:Forum Würth Rorschach\, Forum Würth Rorschach\, Churerstrasse 10\, Rorschach\, 9400
CATEGORIES:Kultur
ATTACH;FMTTYPE=image/jpeg:https://rorschacherecho.ch/v2/wp-content/uploads/2025/03/2a55068c08dda1e8550bb2e88086de72cc31cbd0-8600100111.jpg
ORGANIZER;CN="Forum W%C3%BCrth Rorschach":MAILTO:rorschach@forum-wuerth.ch
END:VEVENT
BEGIN:VEVENT
DTSTART;TZID=Europe/Zurich:20251001T110000
DTEND;TZID=Europe/Zurich:20260331T170000
DTSTAMP:20260426T005113
CREATED:20240924T082529Z
LAST-MODIFIED:20240924T082529Z
UID:10006458-1759316400-1774976400@rorschacherecho.ch
SUMMARY:Sport und Freizeit in Werken der Sammlung Würth
DESCRIPTION:Die Hauptausstellung widmet sich dem Phänomen des Spiels als schöpferischer Erfahrung – vom kindlichen Vergnügen bis zum Gesellschaftsspiel.\nDie neue Hauptausstellung im Forum Würth Rorschach beschäftigt sich mit Freuden und Herausforderungen\, welche Freizeitaktivitäten\, ob Sport oder Spiel mit sich bringen. Schliesslich bietet dieser Zeitvertreib nicht nur Bewegung und willkommene Abwechslung im Alltag\, sondern auch Freiräume für neue Impulse sowie Inspirationen und spielt somit eine wichtige Rolle im kreativen Prozess. \nDie Mussestunden jenseits festgelegter Spielregeln\, Zerstreuungen in unbekümmerter Freiheit\, Tagträume\, das Sich–Treibenlassen\, Umherschlendern\, Chillen oder Herumalbern prägen unser Freizeitverhalten und finden ihren Ausdruck in vielfältigen künstlerischen Formulierungen. \nIst die Kunstwelt am Ende vielleicht sogar der ultimative Spielplatz? Und ist der Geist des Wettbewerbs nicht nur in der modernen Gesellschaft\, sondern auch im künstlerischen Milieu allgegenwärtig? Nebst den klassischen sportlichen Aktivitäten und Freizeitbeschäftigungen\, die auch rund um das Würth Haus Rorschach am Bodenseeufer zu beobachten sind\, wie Schwimmen\, Segeln oder Radfahren\, widmet sich die Hauptausstellung dem Phänomen des Spiels als schöpferischer Erfahrung – vom kindlichen Vergnügen bis zum Gesellschaftsspiel. \n18.3.2025 – 31.3.2025 | 11:00 – 17:00 | Di\,Mi\,Do\,Fr\,Sa\,So\n1.4.2025 – 30.9.2025 | 10:00 – 18:00\n1.10.2025 – 31.3.2026 | 11:00 – 17:00 | Di\,Mi\,Do\,Fr\,Sa\,So\n1.4.2026 – 30.9.2026 | 10:00 – 18:00\n1.10.2026 – 14.2.2027 | 11:00 – 17:00 | Di\,Mi\,Do\,Fr\,Sa\,So
URL:https://rorschacherecho.ch/event/sport-und-freizeit-in-werken-der-sammlung-wuerth-3/
LOCATION:Forum Würth Rorschach\, Forum Würth Rorschach\, Churerstrasse 10\, Rorschach\, 9400
CATEGORIES:Kultur
ATTACH;FMTTYPE=image/jpeg:https://rorschacherecho.ch/v2/wp-content/uploads/2024/09/584e85633def0e112eb54aff7818a60c6864d2e5-8284686041-2.jpg
ORGANIZER;CN="Forum W%C3%BCrth Rorschach":MAILTO:rorschach@forum-wuerth.ch
END:VEVENT
BEGIN:VEVENT
DTSTART;TZID=Europe/Zurich:20260125T110000
DTEND;TZID=Europe/Zurich:20260125T133000
DTSTAMP:20260426T005113
CREATED:20250924T061923Z
LAST-MODIFIED:20250924T061923Z
UID:10011542-1769338800-1769347800@rorschacherecho.ch
SUMMARY:Explora präsentiert: Die Seele des Waldes
DESCRIPTION:Live-Reportage von Stefan Erdmann.\nLassen Sie sich verzaubern durch Bild\, Musik und Lyrik der live gesprochenen Filmreise von Stefan Erdmann. Wer den Naturfilmer durch die Wälder und Jahreszeiten Mitteleuropas begleitet\, fühlt sich auf wundersame Weise inspiriert und berührt. Mit informativen und einfühlsamen Worten führt er sein Publikum zu den geheimnisvollsten Bäumen unserer Natur und erzeugt ein tief emotionales Erlebnis für alle Sinne\, fast schon eine spirituelle Erfahrung. \nSeit 30 Jahren arbeitet Stefan Erdmann als Naturfilmer an verschiedenen Projekten\, doch es ist «Die Seele des Waldes»\, die ihm direkt aus dem Herzen spricht. In bester Bild- und Tonqualität ist diese Liveshow eine Hommage an Wald und Natur\, dabei sorgt die eigens komponierte Musik zwischendurch für Gänsehautmomente. Seine Bildsprache und die beispiellose Kameraführung lassen das Publikum mitten ins Geschehen eintauchen. \nStefan Erdmann zeigt ausschliesslich die Schönheit der Natur ‒ keine mahnenden Worte\, keine zerstörten Wälder. Und doch steckt hinter jeder seiner Aufnahmen eine Botschaft\, die ohne erhobenen Zeigefinger darauf hinweist\, wie elementar es ist\, unsere wertvollen Naturlandschaften für alle heutigen und kommenden Generationen zu schützen und zu bewahren. \nAb CHF 22.00. (Bild: pd explora)
URL:https://rorschacherecho.ch/event/explora-praesentiert-die-seele-des-waldes/
LOCATION:Würth Haus Rorschach\, Churerstrasse 10\, Rorschach\, Schweiz
CATEGORIES:Kultur
ATTACH;FMTTYPE=image/jpeg:https://rorschacherecho.ch/v2/wp-content/uploads/2025/09/810960ff182282e665830a1caddd3316cf54b95b-8938358821.jpg
ORGANIZER;CN="W%C3%BCrth Haus Rorschach":MAILTO:events@wuerth-management.com
END:VEVENT
BEGIN:VEVENT
DTSTART;TZID=Europe/Zurich:20260125T150000
DTEND;TZID=Europe/Zurich:20260125T154500
DTSTAMP:20260426T005113
CREATED:20250924T122240Z
LAST-MODIFIED:20250924T122240Z
UID:10011585-1769353200-1769355900@rorschacherecho.ch
SUMMARY:Öffentliche Kunstführung
DESCRIPTION:Rundgang durch die aktuelle Ausstellung.\nDie Kunstführung gibt einen Überblick über den Inhalt und die Idee der Wechselausstellungen des Forum Würth Rorschach und weist anhand ausgewählter Exponate auf die thematischen Schwerpunkte hin. \nCHF 10.00. (Text/Bild: pd würth)
URL:https://rorschacherecho.ch/event/oeffentliche-kunstfuehrung-2/2026-01-25/
LOCATION:Forum Würth Rorschach\, Forum Würth Rorschach\, Churerstrasse 10\, Rorschach\, 9400
CATEGORIES:Kultur
ATTACH;FMTTYPE=image/jpeg:https://rorschacherecho.ch/v2/wp-content/uploads/2025/09/ed479bb5fb56df2b7a2661f1d393877202363ffe-8933011071.jpg
ORGANIZER;CN="Forum W%C3%BCrth Rorschach":MAILTO:rorschach@forum-wuerth.ch
END:VEVENT
BEGIN:VEVENT
DTSTART;TZID=Europe/Zurich:20260125T150000
DTEND;TZID=Europe/Zurich:20260125T173000
DTSTAMP:20260426T005113
CREATED:20250924T061801Z
LAST-MODIFIED:20250924T061801Z
UID:10011543-1769353200-1769362200@rorschacherecho.ch
SUMMARY:Explora präsentiert: Grönland - Ruf der Stille
DESCRIPTION:Live-Reportage von Jolanda Linschooten.\nAlles beginnt mit einer sechswöchigen Überschreitung der Eiskappe auf Skiern. Seitdem ist Jolanda Linschootens Faszination für die grönländische Wildnis ungebrochen. Seit 20 Jahren bereist die niederländische Abenteurerin «ihre» Insel\, sei es mit Schlittenhunden bei minus 40 Grad im Winter oder zu Fuss und im Kajak während des Sommers. In einer Welt voller Lärm sucht sie nach Stille\, wie es die Jäger der Inuit seit Jahrhunderten tun. \n«Qarrtsiluni» nennen die Grönländer die Stille der Natur. Es ist diese Stille\, für die Jolanda Linschooten immer wieder nach Grönland reist und dafür die dänische Sprache lernt. Auf Skiern ist sie in der dunklen Polarnacht im arktischen Nordosten unterwegs und paddelt im Sommer durch die Fjordlandschaft des Südwestens. Über Jahre hinweg lernt sie von den Inuit\, mit Kajak und Schlittenhunden umzugehen. Sie übernachtet zwischen Eisbären\, gerät in einen Tsunami und muss bei Machtkämpfen zwischen ihren Hunden vermitteln\, von denen das Gelingen ihrer Expeditionen abhängt. Der Grat zwischen Vergnügen und Lebensgefahr ist oft schmal. \nWenn Jolanda Linschooten in Grönland ist\, möchte sie leben wie die Inuit ‒ in tiefer Verbindung zum Land und zu ihren Tieren. Sie sagt: «Die Natur ist nicht unsere Trophäe\, mit der wir grösser werden. Lieber will ich kleiner werden und ein Teil von ihr sein.» \nAb CHF 22.00. (Bild: pd explora)
URL:https://rorschacherecho.ch/event/explora-praesentiert-groenland-ruf-der-stille/
LOCATION:Würth Haus Rorschach\, Churerstrasse 10\, Rorschach\, Schweiz
CATEGORIES:Kultur
ATTACH;FMTTYPE=image/jpeg:https://rorschacherecho.ch/v2/wp-content/uploads/2025/09/269d54d7953e3cfe0b7bf907c1ff714c09a9acbd-8938393261.jpg
ORGANIZER;CN="W%C3%BCrth Haus Rorschach":MAILTO:events@wuerth-management.com
END:VEVENT
BEGIN:VEVENT
DTSTART;TZID=Europe/Zurich:20260125T170000
DTEND;TZID=Europe/Zurich:20260125T180000
DTSTAMP:20260426T005113
CREATED:20260121T052338Z
LAST-MODIFIED:20260121T052338Z
UID:10012247-1769360400-1769364000@rorschacherecho.ch
SUMMARY:Grossbesetzte Kammermusik im Schloss Arbon: Strauss trifft Brahms.
DESCRIPTION:Die Konzertreihe Klassik im Schloss lädt zu einem besonderen Kammermusikabend ein. Auf der Bühne im Landenbergsaal im Schloss Arbon steht die grösste Besetzung der laufenden Saison: ein Streichsextett mit Werken von Richard Strauss und Johannes Brahms. Beginn ist um 17 Uhr. \nNach dem Konzert lädt ein gemütlicher Apéro zum Verweilen und Austausch ein. Für Familien wird eine kostenlose Kinderbetreuung im Familienzentrum Arbon (ebenfalls im Schloss) angeboten. Anmeldungen sind jeweils bis zum Vortag des Konzerts um 17 Uhr möglich unter: arbon@klassikimschloss.com \nProgramm \nRichard Strauss (1864–1949)\nStreichsextett aus Capriccio (1940)\nSextett für Streicher aus der Oper Capriccio\, op. 85\nAndante con moto \nJohannes Brahms (1833–1897)\nStreichsextett G-Dur\, op. 36 (1864/65)\nStreichsextett Nr. 2 G-Dur für zwei Violinen\, zwei Violen und zwei Violoncelli\, op. 36\nI. Allegro non troppo\nII. Scherzo. Allegro non troppo\nIII. Poco adagio\nIV. Poco allegro
URL:https://rorschacherecho.ch/event/grossbesetzte-kammermusik-im-schloss-arbon-strauss-trifft-brahms/
LOCATION:Landenbergsaal\, Schloss Arbon\, Arbon\, 9320
CATEGORIES:Kultur
ATTACH;FMTTYPE=image/jpeg:https://rorschacherecho.ch/v2/wp-content/uploads/2026/01/3-banner-251-low-scaled.jpg
ORGANIZER;CN="Ostinato Festival / Klassik im Schloss":MAILTO:arbon@klassikimschloss.com
END:VEVENT
BEGIN:VEVENT
DTSTART;TZID=Europe/Zurich:20260125T190000
DTEND;TZID=Europe/Zurich:20260125T213000
DTSTAMP:20260426T005113
CREATED:20250924T062036Z
LAST-MODIFIED:20250924T062036Z
UID:10011544-1769367600-1769376600@rorschacherecho.ch
SUMMARY:Explora präsentiert: Drei Esel im Balkan
DESCRIPTION:Live-Reportage von Lotta Lubkoll.\nLotta und Stefan wandern mit Esel Jonny durch den Balkan und erleben eselige Abenteuer. Unterwegs haben sie mit Flussquerungen\, Lebensmittelvergiftung\, einem Waldbrand und der Polizei zu kämpfen\, doch die Einheimischen helfen ihnen überall weiter. Nach dem grossen Erfolg von «Ein Esel zum Pferde stehlen» kehrt Lotta zurück auf die Bühne und erzählt voller Lebensfreude und quietschender Tierliebe von ihrer Zeit in Albanien\, Bosnien und Montenegro. \nMit Mitte 20\, nach dem Tod ihres Vaters\, erfüllt sich Lotta Lubkoll einen lang ersehnten Kindheitstraum: Sie kauft Esel Jonny und wandert mit ihm über die Alpen\, erkundet Spanien und Portugal. Jonny wird zum Familienmitglied\, sogar im gemeinsamen Camper gibt es Platz für ihn. Ihre Reisen plant die Bestsellerautorin stets «Jonny-gerecht» und passt auf\, dass seine Bedürfnisse nicht zu kurz kommen. Auf Wanderschaft wird das Gepäck fair aufgeteilt\, denn Jonny ist kein Lastentier\, sondern ihr gleichberechtigter Begleiter. \nIm Balkan sind sie zu dritt unterwegs\, denn Lottas Partner Stefan ist dabei. Mit Enthusiasmus und Improvisationstalent meistert das Trio selbst die schwierigsten Situationen und wird mit fantastischen Panoramen\, emotionalen Begegnungen und magischen Momenten unter dem funkelnden Sternenhimmel in der traumhaften Bergregion des Westbalkans belohnt. \nAb CHF 22.00. (Bild: pd explora)
URL:https://rorschacherecho.ch/event/explora-praesentiert-drei-esel-im-balkan/
LOCATION:Würth Haus Rorschach
CATEGORIES:Kultur
ATTACH;FMTTYPE=image/jpeg:https://rorschacherecho.ch/v2/wp-content/uploads/2025/09/cb9d8a42b39eba1a58421f9ffdd7f6aa815c80e6-8938393281.jpg
ORGANIZER;CN="W%C3%BCrth Haus Rorschach":MAILTO:events@wuerth-management.com
END:VEVENT
END:VCALENDAR