BEGIN:VCALENDAR
VERSION:2.0
PRODID:-//Rorschacher Echo - ECPv6.15.20//NONSGML v1.0//EN
CALSCALE:GREGORIAN
METHOD:PUBLISH
X-ORIGINAL-URL:https://rorschacherecho.ch
X-WR-CALDESC:Veranstaltungen für Rorschacher Echo
REFRESH-INTERVAL;VALUE=DURATION:PT1H
X-Robots-Tag:noindex
X-PUBLISHED-TTL:PT1H
BEGIN:VTIMEZONE
TZID:Europe/Zurich
BEGIN:DAYLIGHT
TZOFFSETFROM:+0100
TZOFFSETTO:+0200
TZNAME:CEST
DTSTART:20250330T010000
END:DAYLIGHT
BEGIN:STANDARD
TZOFFSETFROM:+0200
TZOFFSETTO:+0100
TZNAME:CET
DTSTART:20251026T010000
END:STANDARD
BEGIN:DAYLIGHT
TZOFFSETFROM:+0100
TZOFFSETTO:+0200
TZNAME:CEST
DTSTART:20260329T010000
END:DAYLIGHT
BEGIN:STANDARD
TZOFFSETFROM:+0200
TZOFFSETTO:+0100
TZNAME:CET
DTSTART:20261025T010000
END:STANDARD
BEGIN:DAYLIGHT
TZOFFSETFROM:+0100
TZOFFSETTO:+0200
TZNAME:CEST
DTSTART:20270328T010000
END:DAYLIGHT
BEGIN:STANDARD
TZOFFSETFROM:+0200
TZOFFSETTO:+0100
TZNAME:CET
DTSTART:20271031T010000
END:STANDARD
END:VTIMEZONE
BEGIN:VEVENT
DTSTART;TZID=Europe/Zurich:20260214T180000
DTEND;TZID=Europe/Zurich:20260215T020000
DTSTAMP:20260425T151132
CREATED:20260112T060244Z
LAST-MODIFIED:20260112T060244Z
UID:10012238-1771092000-1771120800@rorschacherecho.ch
SUMMARY:Cliquenfasnacht 2026
DESCRIPTION:Der HC GORO ist 2026 Teil der traditionellen Cliquenfasnacht in der Region Rorschach. Am Samstag\, dem 14. Februar 2026\, organisiert der regionale Sportverein eine stimmungsvolle Festwirtschaft in der Aula Goldach\, die ganz im Zeichen der Fasnacht steht.\nDen Besucherinnen und Besuchern werden zwei Ticketoptionen angeboten:\n– Ab 18:00 Uhr: Cliquenfasnacht inklusive Abendessen\n– Ab 19:30 Uhr: Cliquenfasnacht als Stehplatzticket\nDer HC GORO betreibt im Rahmen der Veranstaltung eine Sportbar.\nFür beste Unterhaltung ist ebenfalls gesorgt: Mit Susle & Wunderli\, D’Stammgäst\, Äffzeh\, Die (R)an(d)ständigen\, HGQ und den Dorfchübler treten mehrere bekannte Cliquen und Musikformationen auf und garantieren ausgelassene Fasnachtsstimmung.\nAls Sportverein mit starker regionaler Verankerung freut sich der HC GORO\, Teil der Cliquenfasnacht zu sein und einen Beitrag zum kulturellen Leben der Region zu leisten.
URL:https://rorschacherecho.ch/event/cliquenfasnacht-2026/
LOCATION:Aula Oberstufe Goldach\, Goldach\, 9403\, Schweiz
CATEGORIES:Kultur,Sport
ATTACH;FMTTYPE=image/jpeg:https://rorschacherecho.ch/v2/wp-content/uploads/2026/01/whatsapp-image-2026-01-09-at-223547.jpeg
ORGANIZER;CN="hc Goro":MAILTO:events@hcgoro.ch
END:VEVENT
END:VCALENDAR