BEGIN:VCALENDAR
VERSION:2.0
PRODID:-//Rorschacher Echo - ECPv6.15.20//NONSGML v1.0//EN
CALSCALE:GREGORIAN
METHOD:PUBLISH
X-ORIGINAL-URL:https://rorschacherecho.ch
X-WR-CALDESC:Veranstaltungen für Rorschacher Echo
REFRESH-INTERVAL;VALUE=DURATION:PT1H
X-Robots-Tag:noindex
X-PUBLISHED-TTL:PT1H
BEGIN:VTIMEZONE
TZID:Europe/Zurich
BEGIN:DAYLIGHT
TZOFFSETFROM:+0100
TZOFFSETTO:+0200
TZNAME:CEST
DTSTART:20250330T010000
END:DAYLIGHT
BEGIN:STANDARD
TZOFFSETFROM:+0200
TZOFFSETTO:+0100
TZNAME:CET
DTSTART:20251026T010000
END:STANDARD
BEGIN:DAYLIGHT
TZOFFSETFROM:+0100
TZOFFSETTO:+0200
TZNAME:CEST
DTSTART:20260329T010000
END:DAYLIGHT
BEGIN:STANDARD
TZOFFSETFROM:+0200
TZOFFSETTO:+0100
TZNAME:CET
DTSTART:20261025T010000
END:STANDARD
BEGIN:DAYLIGHT
TZOFFSETFROM:+0100
TZOFFSETTO:+0200
TZNAME:CEST
DTSTART:20270328T010000
END:DAYLIGHT
BEGIN:STANDARD
TZOFFSETFROM:+0200
TZOFFSETTO:+0100
TZNAME:CET
DTSTART:20271031T010000
END:STANDARD
BEGIN:DAYLIGHT
TZOFFSETFROM:+0100
TZOFFSETTO:+0200
TZNAME:CEST
DTSTART:20280326T010000
END:DAYLIGHT
BEGIN:STANDARD
TZOFFSETFROM:+0200
TZOFFSETTO:+0100
TZNAME:CET
DTSTART:20281029T010000
END:STANDARD
END:VTIMEZONE
BEGIN:VEVENT
DTSTART;TZID=Europe/Zurich:20260601T110000
DTEND;TZID=Europe/Zurich:20270214T170000
DTSTAMP:20260423T135551
CREATED:20240924T082416Z
LAST-MODIFIED:20240924T082416Z
UID:10006460-1780311600-1802624400@rorschacherecho.ch
SUMMARY:Sport und Freizeit in Werken der Sammlung Würth
DESCRIPTION:Die Hauptausstellung widmet sich dem Phänomen des Spiels als schöpferischer Erfahrung – vom kindlichen Vergnügen bis zum Gesellschaftsspiel.\nDie neue Hauptausstellung im Forum Würth Rorschach beschäftigt sich mit Freuden und Herausforderungen\, welche Freizeitaktivitäten\, ob Sport oder Spiel mit sich bringen. Schliesslich bietet dieser Zeitvertreib nicht nur Bewegung und willkommene Abwechslung im Alltag\, sondern auch Freiräume für neue Impulse sowie Inspirationen und spielt somit eine wichtige Rolle im kreativen Prozess. \nDie Mussestunden jenseits festgelegter Spielregeln\, Zerstreuungen in unbekümmerter Freiheit\, Tagträume\, das Sich–Treibenlassen\, Umherschlendern\, Chillen oder Herumalbern prägen unser Freizeitverhalten und finden ihren Ausdruck in vielfältigen künstlerischen Formulierungen. \nIst die Kunstwelt am Ende vielleicht sogar der ultimative Spielplatz? Und ist der Geist des Wettbewerbs nicht nur in der modernen Gesellschaft\, sondern auch im künstlerischen Milieu allgegenwärtig? Nebst den klassischen sportlichen Aktivitäten und Freizeitbeschäftigungen\, die auch rund um das Würth Haus Rorschach am Bodenseeufer zu beobachten sind\, wie Schwimmen\, Segeln oder Radfahren\, widmet sich die Hauptausstellung dem Phänomen des Spiels als schöpferischer Erfahrung – vom kindlichen Vergnügen bis zum Gesellschaftsspiel. \n18.3.2025 – 31.3.2025 | 11:00 – 17:00 | Di\,Mi\,Do\,Fr\,Sa\,So\n1.4.2025 – 30.9.2025 | 10:00 – 18:00\n1.10.2025 – 31.3.2026 | 11:00 – 17:00 | Di\,Mi\,Do\,Fr\,Sa\,So\n1.4.2026 – 30.9.2026 | 10:00 – 18:00\n1.10.2026 – 14.2.2027 | 11:00 – 17:00 | Di\,Mi\,Do\,Fr\,Sa\,So
URL:https://rorschacherecho.ch/event/sport-und-freizeit-in-werken-der-sammlung-wuerth/
LOCATION:Forum Würth Rorschach\, Forum Würth Rorschach\, Churerstrasse 10\, Rorschach\, 9400
CATEGORIES:Kultur
ATTACH;FMTTYPE=image/jpeg:https://rorschacherecho.ch/v2/wp-content/uploads/2024/09/584e85633def0e112eb54aff7818a60c6864d2e5-8284686041-4.jpg
ORGANIZER;CN="Forum W%C3%BCrth Rorschach":MAILTO:rorschach@forum-wuerth.ch
END:VEVENT
BEGIN:VEVENT
DTSTART;TZID=Europe/Zurich:20261218T080000
DTEND;TZID=Europe/Zurich:20261218T180000
DTSTAMP:20260423T135551
CREATED:20260330T115734Z
LAST-MODIFIED:20260330T115734Z
UID:10012684-1797580800-1797616800@rorschacherecho.ch
SUMMARY:Sommer-Special für Genussmenschen: Picknickkorb
DESCRIPTION:Die Sonne lacht – es ist Picknickzeit \nGeniessen Sie ein entspanntes Outdoor-Erlebnis mit unserem liebevoll zusammengestellten Picknickkorb in unmittelbarer Nähe zum Bodensee. Ideal für zwei oder mehr Personen – oder als originelle Geschenkidee. \nWAS SIE ERWARTET:\n– Ein köstliches Apéro-Plättli\n– Frische Früchte & süsse Leckereien\n– Erfrischende Getränke\n– Eine spritzige Flasche Prosecco\, Rot- oder Weisswein\n– Spiele wie Frisbee\, Kartenspiel & Quiz\n– Genuss\, Spiel und Geselligkeit – alles\, was ein perfektes Picknick direkt am Bodensee ausmacht! \nDas Picknick im Skulpturengarten lässt sich mit einem Besuch der Ausstellungen im Forum Würth Rorschach verbinden. Der Eintritt ist frei. \nWeitere Info: Anmeldung bis 1 Tag vorher unter info@panorama-catering.ch oder +41 71 421 77 00. (Text/Bild: pd würth)
URL:https://rorschacherecho.ch/event/sommer-special-fuer-genussmenschen-picknickkorb/2026-12-18/
LOCATION:Forum Würth Rorschach\, Forum Würth Rorschach\, Churerstrasse 10\, Rorschach\, 9400
CATEGORIES:Kultur
ATTACH;FMTTYPE=image/jpeg:https://rorschacherecho.ch/v2/wp-content/uploads/2026/03/d955b6b56ba33ff83a81a661f7ffc3032df8eabd-9230932951.jpg
ORGANIZER;CN="Forum W%C3%BCrth Rorschach":MAILTO:rorschach@forum-wuerth.ch
END:VEVENT
BEGIN:VEVENT
DTSTART;TZID=Europe/Zurich:20261218T100000
DTEND;TZID=Europe/Zurich:20261218T180000
DTSTAMP:20260423T135551
CREATED:20260330T115457Z
LAST-MODIFIED:20260330T115457Z
UID:10013198-1797588000-1797616800@rorschacherecho.ch
SUMMARY:Lun Tuchnowski & Friends
DESCRIPTION:Bildhauerei im Fokus der Sammlung Würth. \nLun Tuchnowski (1946–2018) zählt zu den Künstlern\, die im Laufe ihres Schaffens zwei wesentliche bildhauerische Auffassungen des 20. Jahrhunderts miteinander verbanden: geometrisch orientierte Formansätze und figurative Elemente. Eindrucksvoll bewahrt sein Werk eine fragile Balance zwischen Ruhe und Dynamik\, Kraft und Eleganz. Der Bildhauer\, der lange in München lebte und dort sein Atelier führte\, arbeitete mit einer Vielzahl von Materialien – von Aluminium und Bronze bis hin zu Holz\, Kunststoff und Gips. \nSeine künstlerische Entwicklung ist eng mit dem bedeutenden dänischen Eisenplastiker Robert Jacobsen (1912–1993) verbunden\, dessen Meisterschüler\, Assistent und Freund er war. In den späten 1980er-Jahren begleitete er Jacobsens skulpturale Gestaltung des Vorplatzes am Museum Würth in Künzelsau. Seitdem bereicherte Tuchnowski mit eigenen Arbeiten die Bandbreite der zeitgenössischen Skulptur bei Würth und prägte als Berater und Ausstellungsarchitekt das visuelle Erscheinungsbild der Sammlung im In- und Ausland. \nAnlässlich seines 80. Geburtstags würdigt das Forum Würth Rorschach diesen Künstler\, der wie kaum ein anderer über viele Jahre eng mit der Sammlung Würth verbunden war. Die Ausstellung «Lun Tuchnowski & Friends» widmet sich den zentralen Schaffensphasen des Künstlers und stellt seinen Werken ausgewählte Wahlverwandtschaften und Wegbegleiter an die Seite. \nEintritt frei. \n7.5.2026 – 30.9.2026 | 10:00 – 18:00\n1.10.2026 – 31.3.2027 | 11:00 – 17:00 | Di\,Mi\,Do\,Fr\,Sa\,So\n1.4.2027 – 23.5.2027 | 10:00 – 18:00 \n(Text/Bild: pd würth)
URL:https://rorschacherecho.ch/event/lun-tuchnowski-friends/2026-12-18/
LOCATION:Forum Würth Rorschach\, Forum Würth Rorschach\, Churerstrasse 10\, Rorschach\, 9400
CATEGORIES:Kultur
ATTACH;FMTTYPE=image/jpeg:https://rorschacherecho.ch/v2/wp-content/uploads/2026/03/304dc04a39f6398fb5221a8b9f9596fa7c8d89d7-9241884461.jpg
ORGANIZER;CN="Forum W%C3%BCrth Rorschach":MAILTO:rorschach@forum-wuerth.ch
END:VEVENT
BEGIN:VEVENT
DTSTART;TZID=Europe/Zurich:20261218T110000
DTEND;TZID=Europe/Zurich:20261218T170000
DTSTAMP:20260423T135551
CREATED:20260330T135239Z
LAST-MODIFIED:20260330T135239Z
UID:10013552-1797591600-1797613200@rorschacherecho.ch
SUMMARY:Lun Tuchnowski & Friends
DESCRIPTION:Bildhauerei im Fokus der Sammlung Würth. \nLun Tuchnowski (1946–2018) zählt zu den Künstlern\, die im Laufe ihres Schaffens zwei wesentliche bildhauerische Auffassungen des 20. Jahrhunderts miteinander verbanden: geometrisch orientierte Formansätze und figurative Elemente. Eindrucksvoll bewahrt sein Werk eine fragile Balance zwischen Ruhe und Dynamik\, Kraft und Eleganz. Der Bildhauer\, der lange in München lebte und dort sein Atelier führte\, arbeitete mit einer Vielzahl von Materialien – von Aluminium und Bronze bis hin zu Holz\, Kunststoff und Gips. \nSeine künstlerische Entwicklung ist eng mit dem bedeutenden dänischen Eisenplastiker Robert Jacobsen (1912–1993) verbunden\, dessen Meisterschüler\, Assistent und Freund er war. In den späten 1980er-Jahren begleitete er Jacobsens skulpturale Gestaltung des Vorplatzes am Museum Würth in Künzelsau. Seitdem bereicherte Tuchnowski mit eigenen Arbeiten die Bandbreite der zeitgenössischen Skulptur bei Würth und prägte als Berater und Ausstellungsarchitekt das visuelle Erscheinungsbild der Sammlung im In- und Ausland. \nAnlässlich seines 80. Geburtstags würdigt das Forum Würth Rorschach diesen Künstler\, der wie kaum ein anderer über viele Jahre eng mit der Sammlung Würth verbunden war. Die Ausstellung «Lun Tuchnowski & Friends» widmet sich den zentralen Schaffensphasen des Künstlers und stellt seinen Werken ausgewählte Wahlverwandtschaften und Wegbegleiter an die Seite. \nEintritt frei. (Text/Bild: pd würth)
URL:https://rorschacherecho.ch/event/lun-tuchnowski-friends-3/2026-12-18/
LOCATION:Forum Würth Rorschach\, Forum Würth Rorschach\, Churerstrasse 10\, Rorschach\, 9400
CATEGORIES:Kultur
ATTACH;FMTTYPE=image/jpeg:https://rorschacherecho.ch/v2/wp-content/uploads/2026/03/304dc04a39f6398fb5221a8b9f9596fa7c8d89d7-9241884461-1.jpg
ORGANIZER;CN="Forum W%C3%BCrth Rorschach":MAILTO:rorschach@forum-wuerth.ch
END:VEVENT
BEGIN:VEVENT
DTSTART;TZID=Europe/Zurich:20261219T191500
DTEND;TZID=Europe/Zurich:20261219T223000
DTSTAMP:20260423T135551
CREATED:20251121T141248Z
LAST-MODIFIED:20251121T141248Z
UID:10012133-1797707700-1797719400@rorschacherecho.ch
SUMMARY:Fondue/Raclette-Schiff ab Rorschach
DESCRIPTION:Zusammen speisen\, lachen\, plaudern und in geselliger Runde einen genussvollen Abend verbringen\, das verbindet und macht vor allem eins: Gute Laune. \nFalls Sie auch zu den Menschen gehören\, die Traditionen lieben\, steht Ihrem Fondue- oder Raclette-Abend auf dem Schiff nichts mehr im Weg. Speziell auserlesene Käsesorten werden zum Raclette sowie frisch zubereitete Fleischhäppchen zum Fondue Chinoise serviert. Auch alle Käsefondueliebhaber können sich am reichhaltigen Beilagenbuffet erfreuen\, alles à discrétion und wie Sie es selten anderswo vorfinden. \nUnd übrigens: Im Preis ist die über 3-stündige Schifffahrt mit charmanter Betreuung unserer nautischen Mannschaft schon inklusive. \nBitte beachten Sie\, dass Tiere auf dieser Fahrt leider nicht erlaubt sind. (Text/Bild: pd sbsag) \nErwachsene: CHF 89.00 / 79.00\nKinder 12-15 Jahre: CHF 47.00\nKinder 6-11 Jahre: CHF 24.00\nKinder unter 6 Jahren kostenlos.
URL:https://rorschacherecho.ch/event/fondue-raclette-schiff-ab-rorschach/2026-12-19/
LOCATION:Hafenbahnhof Rorschach\, Hafenbahnhof Rorschach\, Hafen\, Rorschach
CATEGORIES:Kultur
ATTACH;FMTTYPE=image/jpeg:https://rorschacherecho.ch/v2/wp-content/uploads/2025/11/12624cbe74c3b7b0b8ccb47c3eaff1c471e5edcb-7661950591.jpg
ORGANIZER;CN="Schweizerische Bodensee-Schifffahrt AG":MAILTO:info@sbsag.ch
END:VEVENT
BEGIN:VEVENT
DTSTART;TZID=Europe/Zurich:20261220T101000
DTEND;TZID=Europe/Zurich:20261220T131000
DTSTAMP:20260423T135551
CREATED:20251120T121505Z
LAST-MODIFIED:20251120T121505Z
UID:10012123-1797761400-1797772200@rorschacherecho.ch
SUMMARY:Sonntagsbrunch
DESCRIPTION:Gemeinsam mit seinen Liebsten Zeit in einer entspannten Atmosphäre verbringen und dabei ein Brunch-Buffet geniessen. Wäre das in Kombination mit einer Schifffahrt nicht das perfekte Sonntagserlebnis?\nNicht nur die frische Seebrise und die lieblich vorbeiziehende Uferlandschaft\, auch die regelmässigen Durchsagen des Kapitäns lassen einen spüren\, dass der Brunch für einmal nicht zu Hause oder in einem Restaurant stattfindet\, sondern auf dem Schiff zum speziellen Ereignis wird. Spätestens nach dem netten „Schwatz“ mit der nautischen Crew weiss man\, dass dieser Sonntagvormittag etwas ganz Besonderes ist. \nLokale und frisch zubereitete Köstlichkeiten sowie hausgemachte Leckereien gehören ebenso zu unserem Sonntagsbrunch wie traditionelle Eierspeisen\, Zopf oder Fleisch- und Käsespezialitäten. Auch den Liebhabern warmer Küche oder süsser Speisen bereitet unser hauseigenes Gastronomieteam ein paar genussvolle Gaumenfreuden. \nEs wird darum gebeten zu beachten\, dass Tiere auf dieser Fahrt leider nicht erlaubt sind. (Text/Bild: pd sbsag) \nErwachsene: CHF 89.00\nKinder 12-15 Jahre: CHF 39.00\nKinder 6-11 Jahre: CHF 25.00\nKinder unter 6 Jahren kostenlos.
URL:https://rorschacherecho.ch/event/sonntagsbrunch/2026-12-20/
LOCATION:Hafenbahnhof Rorschach\, Hafenbahnhof Rorschach\, Hafen\, Rorschach
CATEGORIES:Kultur
ATTACH;FMTTYPE=image/jpeg:https://rorschacherecho.ch/v2/wp-content/uploads/2025/11/ea92417f93de9c7db2af3ceb6e32d35f5e21c722-7378366071.jpg
ORGANIZER;CN="Schweizerische Bodensee-Schifffahrt AG":MAILTO:info@sbsag.ch
END:VEVENT
BEGIN:VEVENT
DTSTART;TZID=Europe/Zurich:20261220T150000
DTEND;TZID=Europe/Zurich:20261220T154500
DTSTAMP:20260423T135551
CREATED:20260330T140535Z
LAST-MODIFIED:20260330T140535Z
UID:10012402-1797778800-1797781500@rorschacherecho.ch
SUMMARY:Öffentliche Kunstführung
DESCRIPTION:„Erleben Sie die Welt der modernen und zeitgenössischen Kunst in einer fachkundigen und informativen Führung! \nJeden Sonntag um 15.00 Uhr laden wir Sie ein\, die aktuellen Ausstellungen im Forum Würth Rorschach auf einem geführten Rundgang zu erkunden. Dabei erwarten Sie spannende Hintergrundinformationen zu den Highlights der Ausstellungen\, Einblicke in die neuesten Tendenzen der Kunst und interessante Fakten über die Künstlerinnen und Künstler. \nErleben Sie die Welt der modernen und zeitgenössischen Kunst in einer fachkundigen und informativen Führung! \nTreffpunkt und Bezahlung im Kunstshop. Es ist keine Anmeldung erforderlich.“ (Text/Bild: pd würth)
URL:https://rorschacherecho.ch/event/oeffentliche-kunstfuehrung-3/2026-12-20/
LOCATION:Forum Würth Rorschach\, Forum Würth Rorschach\, Churerstrasse 10\, Rorschach\, 9400
CATEGORIES:Kultur
ATTACH;FMTTYPE=image/jpeg:https://rorschacherecho.ch/v2/wp-content/uploads/2026/03/ed479bb5fb56df2b7a2661f1d393877202363ffe-8933011071.jpg
ORGANIZER;CN="Forum W%C3%BCrth Rorschach":MAILTO:rorschach@forum-wuerth.ch
END:VEVENT
BEGIN:VEVENT
DTSTART;TZID=Europe/Zurich:20261224T140000
DTEND;TZID=Europe/Zurich:20261224T160000
DTSTAMP:20260423T135551
CREATED:20251111T165108Z
LAST-MODIFIED:20251111T165108Z
UID:10011850-1798120800-1798128000@rorschacherecho.ch
SUMMARY:Stricken/Häkeln & ALPAKA-Lädeli\, Lutzenberg
DESCRIPTION:„Wir kreieren zusammen Handschuhe\, Mützen\, Taschen\, Finken\, Sauerteig-Brot\, Natur-Seifen\, usw. für CHF 20.- pro Handwerk (exkl. Material)\, mit Anmeldung (078 855 90 09 oder WhatsApp)“. (Bild: pd)
URL:https://rorschacherecho.ch/event/stricken-haekeln-alpaka-laedeli-lutzenberg/2026-12-24/
LOCATION:Lutzenberg\, Gstell 749\, Lutzenberg\, 9426
CATEGORIES:Lokales Gewerbe
ATTACH;FMTTYPE=image/jpeg:https://rorschacherecho.ch/v2/wp-content/uploads/2025/11/1000129674.jpg
ORGANIZER;CN="WOOLart.shop":MAILTO:nadiarohner@bluewin.ch
END:VEVENT
BEGIN:VEVENT
DTSTART;TZID=Europe/Zurich:20261224T190000
DTEND;TZID=Europe/Zurich:20261224T203000
DTSTAMP:20260423T135551
CREATED:20231024T122255Z
LAST-MODIFIED:20240208T120934Z
UID:10003424-1798138800-1798144200@rorschacherecho.ch
SUMMARY:Kundalini Yoga
DESCRIPTION:Dieses äusserst kreative Yogasystem besteht aus Variationen der klassischen 84 Körperhaltungen (Asanas)\, die in festgelegten Übungsreihen (Kriyas) unterschiedlichste Erfahrungen ermöglichen. Atemführung (Pranayam) spielt dabei eine fundamentale Rolle. Die zwei Hauptformen sind der lange tiefe Atem (beruhigend) und der Feueratem (belebend). Die Wissenschaft des Klangs (Naad) wird im KY über Chanten\, aber auch über den Einsatz von Musik zu den Kriyas und in den Meditationen eingesetzt. Die Tiefenentspannung (Shavasana) ist eine Königshaltung. Erst im Zustand der Ruhe können sich die erweckten Impulse auf allen Ebenen des Seins entfalten.\nAuf körperlicher Ebene kurbelt Kundalini Yoga den Blut- und Kreislauf an\, stärkt das Nervensystem\, kräftigt das Drüsen- und Immunsystem\, regt die Verdauungsorgane an\, trainiert umfassend den Bewegungsapparat – insbesondere die Wirbelsäule – unterstützt einzelne Organe gezielt in ihrer Funktion und schult die Ausdauer. Auf höherer Ebene geht es im Kundalini Yoga (Yoga = Vereinigung\, Verbindung) darum\, ins wahre Bewusstsein zu kommen. \nDas findet neu im „dance4you“ an der Kirchstrasse 13A in Rorschach statt.
URL:https://rorschacherecho.ch/event/kundalini-yoga/2026-12-24/
LOCATION:dance4you\, Kirchstrasse 13A\, Rorschach\, Signalstrasse 15\, Rorschach\, 9400
CATEGORIES:Sport
ATTACH;FMTTYPE=image/jpeg:https://rorschacherecho.ch/v2/wp-content/uploads/2023/10/shuniya-logoblumeschriftzugclaim.jpeg
ORGANIZER;CN="Hanspeter W%C3%B6hrle":MAILTO:hp.woehrle@shuniya.ch
END:VEVENT
BEGIN:VEVENT
DTSTART;TZID=Europe/Zurich:20261226T090000
DTEND;TZID=Europe/Zurich:20261226T103000
DTSTAMP:20260423T135551
CREATED:20240113T142235Z
LAST-MODIFIED:20240113T142235Z
UID:10004821-1798275600-1798281000@rorschacherecho.ch
SUMMARY:Buchtreff im Gönndircafé in Rorschach
DESCRIPTION:Die Initiantin schreibt dazu: „Hast du Lust über dein Lieblingsbuch zu diskutieren und dich mit Gleichgesinnten zu unterhalten? Wir treffen uns jeden letzten Samstag im Monat und reden über Bücher.“ (Plakat: pd gdcr fd)
URL:https://rorschacherecho.ch/event/buchtreff-im-goenndircafe-in-rorschach/2026-12-26/
LOCATION:Gönndircafe\, Signalstr. 15\, 9400\, Rorschach
ATTACH;FMTTYPE=image/png:https://rorschacherecho.ch/v2/wp-content/uploads/2024/01/yellow-and-black-geometric-book-fair-instagram-story1.png
ORGANIZER;CN="G%C3%B6nndircafe":MAILTO:info@gönndircafe.ch
END:VEVENT
BEGIN:VEVENT
DTSTART;TZID=Europe/Zurich:20261226T100000
DTEND;TZID=Europe/Zurich:20261226T113000
DTSTAMP:20260423T135551
CREATED:20240410T090800Z
LAST-MODIFIED:20240410T090923Z
UID:10005609-1798279200-1798284600@rorschacherecho.ch
SUMMARY:Buchtreff im GönnDirCafé Rorschach
DESCRIPTION:Fabia schreibt dazu: „Wir treffen uns einmal im Monat immer am letzten Samstag. Wir lieben Bücher und freuen uns darüber zu diskutieren und auszutauschen. Keine Anmeldung erforderlich.“
URL:https://rorschacherecho.ch/event/buchtreff-im-goenndircafe-rorschach/2026-12-26/
LOCATION:Gönndircafe\, Signalstr. 15\, 9400\, Rorschach
CATEGORIES:Kultur
ATTACH;FMTTYPE=image/png:https://rorschacherecho.ch/v2/wp-content/uploads/2024/04/buchtreff-jeweils-am-samstag.png
ORGANIZER;CN="G%C3%B6nndircafe":MAILTO:info@gönndircafe.ch
END:VEVENT
BEGIN:VEVENT
DTSTART;TZID=Europe/Zurich:20270401T100000
DTEND;TZID=Europe/Zurich:20270401T180000
DTSTAMP:20260423T135551
CREATED:20260330T135149Z
LAST-MODIFIED:20260330T135149Z
UID:10013955-1806573600-1806602400@rorschacherecho.ch
SUMMARY:Lun Tuchnowski & Friends
DESCRIPTION:Bildhauerei im Fokus der Sammlung Würth.\nLun Tuchnowski (1946–2018) zählt zu den Künstlern\, die im Laufe ihres Schaffens zwei wesentliche bildhauerische Auffassungen des 20. Jahrhunderts miteinander verbanden: geometrisch orientierte Formansätze und figurative Elemente. Eindrucksvoll bewahrt sein Werk eine fragile Balance zwischen Ruhe und Dynamik\, Kraft und Eleganz. Der Bildhauer\, der lange in München lebte und dort sein Atelier führte\, arbeitete mit einer Vielzahl von Materialien – von Aluminium und Bronze bis hin zu Holz\, Kunststoff und Gips. \nSeine künstlerische Entwicklung ist eng mit dem bedeutenden dänischen Eisenplastiker Robert Jacobsen (1912–1993) verbunden\, dessen Meisterschüler\, Assistent und Freund er war. In den späten 1980er-Jahren begleitete er Jacobsens skulpturale Gestaltung des Vorplatzes am Museum Würth in Künzelsau. Seitdem bereicherte Tuchnowski mit eigenen Arbeiten die Bandbreite der zeitgenössischen Skulptur bei Würth und prägte als Berater und Ausstellungsarchitekt das visuelle Erscheinungsbild der Sammlung im In- und Ausland. \nAnlässlich seines 80. Geburtstags würdigt das Forum Würth Rorschach diesen Künstler\, der wie kaum ein anderer über viele Jahre eng mit der Sammlung Würth verbunden war. Die Ausstellung «Lun Tuchnowski & Friends» widmet sich den zentralen Schaffensphasen des Künstlers und stellt seinen Werken ausgewählte Wahlverwandtschaften und Wegbegleiter an die Seite. \nEintritt frei. \n1.4.2027 – 23.5.2027 | 10:00 – 18:00 Uhr. (Text/Bild: pd würth)
URL:https://rorschacherecho.ch/event/lun-tuchnowski-friends-2/2027-04-01/
LOCATION:Forum Würth Rorschach\, Forum Würth Rorschach\, Churerstrasse 10\, Rorschach\, 9400
CATEGORIES:Kultur
ATTACH;FMTTYPE=image/jpeg:https://rorschacherecho.ch/v2/wp-content/uploads/2026/03/304dc04a39f6398fb5221a8b9f9596fa7c8d89d7-9241884461-2.jpg
ORGANIZER;CN="Forum W%C3%BCrth Rorschach":MAILTO:rorschach@forum-wuerth.ch
END:VEVENT
END:VCALENDAR