BEGIN:VCALENDAR
VERSION:2.0
PRODID:-//Rorschacher Echo - ECPv6.15.20//NONSGML v1.0//EN
CALSCALE:GREGORIAN
METHOD:PUBLISH
X-WR-CALNAME:Rorschacher Echo
X-ORIGINAL-URL:https://rorschacherecho.ch
X-WR-CALDESC:Veranstaltungen für Rorschacher Echo
REFRESH-INTERVAL;VALUE=DURATION:PT1H
X-Robots-Tag:noindex
X-PUBLISHED-TTL:PT1H
BEGIN:VTIMEZONE
TZID:Europe/Zurich
BEGIN:DAYLIGHT
TZOFFSETFROM:+0100
TZOFFSETTO:+0200
TZNAME:CEST
DTSTART:20250330T010000
END:DAYLIGHT
BEGIN:STANDARD
TZOFFSETFROM:+0200
TZOFFSETTO:+0100
TZNAME:CET
DTSTART:20251026T010000
END:STANDARD
BEGIN:DAYLIGHT
TZOFFSETFROM:+0100
TZOFFSETTO:+0200
TZNAME:CEST
DTSTART:20260329T010000
END:DAYLIGHT
BEGIN:STANDARD
TZOFFSETFROM:+0200
TZOFFSETTO:+0100
TZNAME:CET
DTSTART:20261025T010000
END:STANDARD
BEGIN:DAYLIGHT
TZOFFSETFROM:+0100
TZOFFSETTO:+0200
TZNAME:CEST
DTSTART:20270328T010000
END:DAYLIGHT
BEGIN:STANDARD
TZOFFSETFROM:+0200
TZOFFSETTO:+0100
TZNAME:CET
DTSTART:20271031T010000
END:STANDARD
BEGIN:DAYLIGHT
TZOFFSETFROM:+0100
TZOFFSETTO:+0200
TZNAME:CEST
DTSTART:20280326T010000
END:DAYLIGHT
BEGIN:STANDARD
TZOFFSETFROM:+0200
TZOFFSETTO:+0100
TZNAME:CET
DTSTART:20281029T010000
END:STANDARD
END:VTIMEZONE
BEGIN:VEVENT
DTSTART;TZID=Europe/Zurich:20260926T090000
DTEND;TZID=Europe/Zurich:20260926T103000
DTSTAMP:20260423T213804
CREATED:20240113T142235Z
LAST-MODIFIED:20240113T142235Z
UID:10004818-1790413200-1790418600@rorschacherecho.ch
SUMMARY:Buchtreff im Gönndircafé in Rorschach
DESCRIPTION:Die Initiantin schreibt dazu: „Hast du Lust über dein Lieblingsbuch zu diskutieren und dich mit Gleichgesinnten zu unterhalten? Wir treffen uns jeden letzten Samstag im Monat und reden über Bücher.“ (Plakat: pd gdcr fd)
URL:https://rorschacherecho.ch/event/buchtreff-im-goenndircafe-in-rorschach/2026-09-26/
LOCATION:Gönndircafe\, Signalstr. 15\, 9400\, Rorschach
ATTACH;FMTTYPE=image/png:https://rorschacherecho.ch/v2/wp-content/uploads/2024/01/yellow-and-black-geometric-book-fair-instagram-story1.png
ORGANIZER;CN="G%C3%B6nndircafe":MAILTO:info@gönndircafe.ch
END:VEVENT
BEGIN:VEVENT
DTSTART;TZID=Europe/Zurich:20260926T100000
DTEND;TZID=Europe/Zurich:20260926T113000
DTSTAMP:20260423T213804
CREATED:20240410T090800Z
LAST-MODIFIED:20240410T090923Z
UID:10005606-1790416800-1790422200@rorschacherecho.ch
SUMMARY:Buchtreff im GönnDirCafé Rorschach
DESCRIPTION:Fabia schreibt dazu: „Wir treffen uns einmal im Monat immer am letzten Samstag. Wir lieben Bücher und freuen uns darüber zu diskutieren und auszutauschen. Keine Anmeldung erforderlich.“
URL:https://rorschacherecho.ch/event/buchtreff-im-goenndircafe-rorschach/2026-09-26/
LOCATION:Gönndircafe\, Signalstr. 15\, 9400\, Rorschach
CATEGORIES:Kultur
ATTACH;FMTTYPE=image/png:https://rorschacherecho.ch/v2/wp-content/uploads/2024/04/buchtreff-jeweils-am-samstag.png
ORGANIZER;CN="G%C3%B6nndircafe":MAILTO:info@gönndircafe.ch
END:VEVENT
BEGIN:VEVENT
DTSTART;TZID=Europe/Zurich:20260926T150000
DTEND;TZID=Europe/Zurich:20260926T170000
DTSTAMP:20260423T213804
CREATED:20260330T135948Z
LAST-MODIFIED:20260330T135948Z
UID:10012450-1790434800-1790442000@rorschacherecho.ch
SUMMARY:Art for Tea
DESCRIPTION:Kurzführung mit anschliessendem Afternoon Tea. \nWas gibt es Schöneres als einen nebligen Herbstnachmittag nach einer mitreissenden Kurzführung durch die aktuelle Ausstellung im KunstCafé heimelig ausklingen zu lassen? Besucherinnen und Besucher fühlen sich «very british» bei Afternoon Tea\, Scones\, herzhaften Sandwiches und feinem Gebäck. \n15.00 ‒ 15.30 Uhr: Kurzführung durch die Ausstellung\n15.30 ‒ 17.00 Uhr: Afternoon Tea \nWeitere Info: Anmeldung bis Mittwoch vor der Veranstaltung unter rorschach@forum-wuerth.ch. (Text/Bild: pd würth)
URL:https://rorschacherecho.ch/event/art-for-tea-2/2026-09-26/
LOCATION:Forum Würth Rorschach\, Forum Würth Rorschach\, Churerstrasse 10\, Rorschach\, 9400
CATEGORIES:Kultur
ATTACH;FMTTYPE=image/jpeg:https://rorschacherecho.ch/v2/wp-content/uploads/2026/03/3ad11b189baeb418bde0a1776bfdca46dcd40401-6277857291.jpg
ORGANIZER;CN="Forum W%C3%BCrth Rorschach":MAILTO:rorschach@forum-wuerth.ch
END:VEVENT
BEGIN:VEVENT
DTSTART;TZID=Europe/Zurich:20261001T110000
DTEND;TZID=Europe/Zurich:20261001T170000
DTSTAMP:20260423T213804
CREATED:20260330T135239Z
LAST-MODIFIED:20260330T135239Z
UID:10013485-1790852400-1790874000@rorschacherecho.ch
SUMMARY:Lun Tuchnowski & Friends
DESCRIPTION:Bildhauerei im Fokus der Sammlung Würth. \nLun Tuchnowski (1946–2018) zählt zu den Künstlern\, die im Laufe ihres Schaffens zwei wesentliche bildhauerische Auffassungen des 20. Jahrhunderts miteinander verbanden: geometrisch orientierte Formansätze und figurative Elemente. Eindrucksvoll bewahrt sein Werk eine fragile Balance zwischen Ruhe und Dynamik\, Kraft und Eleganz. Der Bildhauer\, der lange in München lebte und dort sein Atelier führte\, arbeitete mit einer Vielzahl von Materialien – von Aluminium und Bronze bis hin zu Holz\, Kunststoff und Gips. \nSeine künstlerische Entwicklung ist eng mit dem bedeutenden dänischen Eisenplastiker Robert Jacobsen (1912–1993) verbunden\, dessen Meisterschüler\, Assistent und Freund er war. In den späten 1980er-Jahren begleitete er Jacobsens skulpturale Gestaltung des Vorplatzes am Museum Würth in Künzelsau. Seitdem bereicherte Tuchnowski mit eigenen Arbeiten die Bandbreite der zeitgenössischen Skulptur bei Würth und prägte als Berater und Ausstellungsarchitekt das visuelle Erscheinungsbild der Sammlung im In- und Ausland. \nAnlässlich seines 80. Geburtstags würdigt das Forum Würth Rorschach diesen Künstler\, der wie kaum ein anderer über viele Jahre eng mit der Sammlung Würth verbunden war. Die Ausstellung «Lun Tuchnowski & Friends» widmet sich den zentralen Schaffensphasen des Künstlers und stellt seinen Werken ausgewählte Wahlverwandtschaften und Wegbegleiter an die Seite. \nEintritt frei. (Text/Bild: pd würth)
URL:https://rorschacherecho.ch/event/lun-tuchnowski-friends-3/2026-10-01/
LOCATION:Forum Würth Rorschach\, Forum Würth Rorschach\, Churerstrasse 10\, Rorschach\, 9400
CATEGORIES:Kultur
ATTACH;FMTTYPE=image/jpeg:https://rorschacherecho.ch/v2/wp-content/uploads/2026/03/304dc04a39f6398fb5221a8b9f9596fa7c8d89d7-9241884461-1.jpg
ORGANIZER;CN="Forum W%C3%BCrth Rorschach":MAILTO:rorschach@forum-wuerth.ch
END:VEVENT
BEGIN:VEVENT
DTSTART;TZID=Europe/Zurich:20261002T160000
DTEND;TZID=Europe/Zurich:20261002T230000
DTSTAMP:20260423T213804
CREATED:20260407T091836Z
LAST-MODIFIED:20260407T091918Z
UID:10014052-1790956800-1790982000@rorschacherecho.ch
SUMMARY:Oktoberfest – O’Zapft is!
DESCRIPTION:Brezn\, Bier und Musik \nDas Oktoberfest hat seinen Ursprung in München und ist heute eines der bekanntesten Volksfeste der Welt. Typisch sind zünftige Musik\, herzhafte Spezialitäten und ein geselliges Miteinander – genau das erwartet Sie auch bei uns! \nAm 2. und 3. Oktober steht das Würth Haus Rorschach ganz im Zeichen der bayrischen Flagge. Freuen Sie sich auf einen stimmungsvollen Abend mit mitreissender Live-Musik\, einem traditionellen Buffet\, zünftigem Fassanstich und frisch gezapftem Bier – echte Oktoberfest-Atmosphäre direkt am Bodensee. \nZiehen Sie Ihr Dirndl oder Ihre Lederhose an und lassen Sie sich von ausgezeichneter Stimmung und kulinarischen Highlights begeistern. \nTickets im Würth Haus Rorschach (Mo – Fr) oder online. Ticketverkauf bis Freitag\, 18. September 2026. Die Plätze sind limitiert. (Bild: pd würth)
URL:https://rorschacherecho.ch/event/oktoberfest-ozapft-is/2026-10-02/
LOCATION:Würth Haus Rorschach\, Churerstrasse 10\, Rorschach\, Schweiz
CATEGORIES:Kultur
ATTACH;FMTTYPE=image/jpeg:https://rorschacherecho.ch/v2/wp-content/uploads/2026/04/c0b93b0d98016a37c12f942f99d144496dc59b22-9230769101.jpg
ORGANIZER;CN="W%C3%BCrth Haus Rorschach":MAILTO:events@wuerth-management.com
END:VEVENT
BEGIN:VEVENT
DTSTART;TZID=Europe/Zurich:20261006T190000
DTEND;TZID=Europe/Zurich:20261006T210000
DTSTAMP:20260423T213804
CREATED:20260319T170546Z
LAST-MODIFIED:20260319T170546Z
UID:10012328-1791313200-1791320400@rorschacherecho.ch
SUMMARY:Serafina Abend
DESCRIPTION:„Freue dich auf einen inspirierenden Dienstagabend. In einer leichten und angenehmen Atmosphäre begeben wir uns auf eine Reise… Wir beginnen den Abend mit einem Gespräch zum Thema. Dann folgt eine geführte Kurzmeditation\, danach tauschen wir uns aus\, und es können Fragen gestellt werden. Zum Schluss gehen wir nochmals in die Stille. Am Ende fühlen wir uns gut gestärkt\, zentriert und in unserer Mitte angekommen.“ (Text/Plakat: pd)
URL:https://rorschacherecho.ch/event/serafina-abend/2026-10-06/
LOCATION:Gönndircafe\, Signalstr. 15\, 9400\, Rorschach
CATEGORIES:Kultur
ATTACH;FMTTYPE=image/jpeg:https://rorschacherecho.ch/v2/wp-content/uploads/2026/03/serafina-abend.jpg
ORGANIZER;CN="Praxis-Serafina%2C Steinach":MAILTO:info@praxis-serafina.ch
END:VEVENT
BEGIN:VEVENT
DTSTART;TZID=Europe/Zurich:20261017T200000
DTEND;TZID=Europe/Zurich:20261017T213000
DTSTAMP:20260423T213804
CREATED:20260421T154339Z
LAST-MODIFIED:20260421T154339Z
UID:10014080-1792267200-1792272600@rorschacherecho.ch
SUMMARY:Hanna & Harald
DESCRIPTION:Scheuring fragt – Schmidt redet: Das ungeprobte Tischgespräch \nHanna Scheuring und Harald Schmidt laden ein zum gehobenen Tischgespräch: über Harald\, Hanna und die Welt\, von Pontius zu Pilates\, von täglichen Sensationen\, über Schlafverhalten bis zu Gurken zum Frühstück … \nEin unvorbereiteter Abend zum aktuellen Weltgeschehen und zu den kleinen Gewohnheiten auf dem Luxusdampfer unseres Lebens. \nCHF 60.00 \nWeitere Info: Tickets im Würth Haus Rorschach (Mo‒Fr) oder online.
URL:https://rorschacherecho.ch/event/hanna-harald/
LOCATION:Würth Haus Rorschach\, Churerstrasse 10\, Rorschach\, Schweiz
CATEGORIES:Kultur
ATTACH;FMTTYPE=image/jpeg:https://rorschacherecho.ch/v2/wp-content/uploads/2026/04/51662a2dcacb78fc75d29ac9e46268459ac8b197-9230867561.jpg
ORGANIZER;CN="W%C3%BCrth Haus Rorschach":MAILTO:events@wuerth-management.com
END:VEVENT
BEGIN:VEVENT
DTSTART;TZID=Europe/Zurich:20261107T191500
DTEND;TZID=Europe/Zurich:20261107T223000
DTSTAMP:20260423T213804
CREATED:20251121T141248Z
LAST-MODIFIED:20251121T141248Z
UID:10012129-1794078900-1794090600@rorschacherecho.ch
SUMMARY:Fondue/Raclette-Schiff ab Rorschach
DESCRIPTION:Zusammen speisen\, lachen\, plaudern und in geselliger Runde einen genussvollen Abend verbringen\, das verbindet und macht vor allem eins: Gute Laune. \nFalls Sie auch zu den Menschen gehören\, die Traditionen lieben\, steht Ihrem Fondue- oder Raclette-Abend auf dem Schiff nichts mehr im Weg. Speziell auserlesene Käsesorten werden zum Raclette sowie frisch zubereitete Fleischhäppchen zum Fondue Chinoise serviert. Auch alle Käsefondueliebhaber können sich am reichhaltigen Beilagenbuffet erfreuen\, alles à discrétion und wie Sie es selten anderswo vorfinden. \nUnd übrigens: Im Preis ist die über 3-stündige Schifffahrt mit charmanter Betreuung unserer nautischen Mannschaft schon inklusive. \nBitte beachten Sie\, dass Tiere auf dieser Fahrt leider nicht erlaubt sind. (Text/Bild: pd sbsag) \nErwachsene: CHF 89.00 / 79.00\nKinder 12-15 Jahre: CHF 47.00\nKinder 6-11 Jahre: CHF 24.00\nKinder unter 6 Jahren kostenlos.
URL:https://rorschacherecho.ch/event/fondue-raclette-schiff-ab-rorschach/2026-11-07/
LOCATION:Hafenbahnhof Rorschach\, Hafenbahnhof Rorschach\, Hafen\, Rorschach
CATEGORIES:Kultur
ATTACH;FMTTYPE=image/jpeg:https://rorschacherecho.ch/v2/wp-content/uploads/2025/11/12624cbe74c3b7b0b8ccb47c3eaff1c471e5edcb-7661950591.jpg
ORGANIZER;CN="Schweizerische Bodensee-Schifffahrt AG":MAILTO:info@sbsag.ch
END:VEVENT
BEGIN:VEVENT
DTSTART;TZID=Europe/Zurich:20270401T100000
DTEND;TZID=Europe/Zurich:20270401T180000
DTSTAMP:20260423T213804
CREATED:20260330T135149Z
LAST-MODIFIED:20260330T135149Z
UID:10013955-1806573600-1806602400@rorschacherecho.ch
SUMMARY:Lun Tuchnowski & Friends
DESCRIPTION:Bildhauerei im Fokus der Sammlung Würth.\nLun Tuchnowski (1946–2018) zählt zu den Künstlern\, die im Laufe ihres Schaffens zwei wesentliche bildhauerische Auffassungen des 20. Jahrhunderts miteinander verbanden: geometrisch orientierte Formansätze und figurative Elemente. Eindrucksvoll bewahrt sein Werk eine fragile Balance zwischen Ruhe und Dynamik\, Kraft und Eleganz. Der Bildhauer\, der lange in München lebte und dort sein Atelier führte\, arbeitete mit einer Vielzahl von Materialien – von Aluminium und Bronze bis hin zu Holz\, Kunststoff und Gips. \nSeine künstlerische Entwicklung ist eng mit dem bedeutenden dänischen Eisenplastiker Robert Jacobsen (1912–1993) verbunden\, dessen Meisterschüler\, Assistent und Freund er war. In den späten 1980er-Jahren begleitete er Jacobsens skulpturale Gestaltung des Vorplatzes am Museum Würth in Künzelsau. Seitdem bereicherte Tuchnowski mit eigenen Arbeiten die Bandbreite der zeitgenössischen Skulptur bei Würth und prägte als Berater und Ausstellungsarchitekt das visuelle Erscheinungsbild der Sammlung im In- und Ausland. \nAnlässlich seines 80. Geburtstags würdigt das Forum Würth Rorschach diesen Künstler\, der wie kaum ein anderer über viele Jahre eng mit der Sammlung Würth verbunden war. Die Ausstellung «Lun Tuchnowski & Friends» widmet sich den zentralen Schaffensphasen des Künstlers und stellt seinen Werken ausgewählte Wahlverwandtschaften und Wegbegleiter an die Seite. \nEintritt frei. \n1.4.2027 – 23.5.2027 | 10:00 – 18:00 Uhr. (Text/Bild: pd würth)
URL:https://rorschacherecho.ch/event/lun-tuchnowski-friends-2/2027-04-01/
LOCATION:Forum Würth Rorschach\, Forum Würth Rorschach\, Churerstrasse 10\, Rorschach\, 9400
CATEGORIES:Kultur
ATTACH;FMTTYPE=image/jpeg:https://rorschacherecho.ch/v2/wp-content/uploads/2026/03/304dc04a39f6398fb5221a8b9f9596fa7c8d89d7-9241884461-2.jpg
ORGANIZER;CN="Forum W%C3%BCrth Rorschach":MAILTO:rorschach@forum-wuerth.ch
END:VEVENT
END:VCALENDAR