BEGIN:VCALENDAR
VERSION:2.0
PRODID:-//Rorschacher Echo - ECPv6.15.20//NONSGML v1.0//EN
CALSCALE:GREGORIAN
METHOD:PUBLISH
X-WR-CALNAME:Rorschacher Echo
X-ORIGINAL-URL:https://rorschacherecho.ch
X-WR-CALDESC:Veranstaltungen für Rorschacher Echo
REFRESH-INTERVAL;VALUE=DURATION:PT1H
X-Robots-Tag:noindex
X-PUBLISHED-TTL:PT1H
BEGIN:VTIMEZONE
TZID:Europe/Zurich
BEGIN:DAYLIGHT
TZOFFSETFROM:+0100
TZOFFSETTO:+0200
TZNAME:CEST
DTSTART:20250330T010000
END:DAYLIGHT
BEGIN:STANDARD
TZOFFSETFROM:+0200
TZOFFSETTO:+0100
TZNAME:CET
DTSTART:20251026T010000
END:STANDARD
BEGIN:DAYLIGHT
TZOFFSETFROM:+0100
TZOFFSETTO:+0200
TZNAME:CEST
DTSTART:20260329T010000
END:DAYLIGHT
BEGIN:STANDARD
TZOFFSETFROM:+0200
TZOFFSETTO:+0100
TZNAME:CET
DTSTART:20261025T010000
END:STANDARD
BEGIN:DAYLIGHT
TZOFFSETFROM:+0100
TZOFFSETTO:+0200
TZNAME:CEST
DTSTART:20270328T010000
END:DAYLIGHT
BEGIN:STANDARD
TZOFFSETFROM:+0200
TZOFFSETTO:+0100
TZNAME:CET
DTSTART:20271031T010000
END:STANDARD
BEGIN:DAYLIGHT
TZOFFSETFROM:+0100
TZOFFSETTO:+0200
TZNAME:CEST
DTSTART:20280326T010000
END:DAYLIGHT
BEGIN:STANDARD
TZOFFSETFROM:+0200
TZOFFSETTO:+0100
TZNAME:CET
DTSTART:20281029T010000
END:STANDARD
END:VTIMEZONE
BEGIN:VEVENT
DTSTART;VALUE=DATE:20260530
DTEND;VALUE=DATE:20261102
DTSTAMP:20260424T022259
CREATED:20260403T095356Z
LAST-MODIFIED:20260403T095356Z
UID:10014051-1780099200-1793577599@rorschacherecho.ch
SUMMARY:Billboards am See: Bildstein | Glatz: Offsite Echo
DESCRIPTION:Seit über 25 Jahren besetzt das Duo Bildstein | Glatz den öffentlichen Raum mit einer Radikalität\, die sich jeder dekorativen Gefälligkeit entzieht. Ihre Konstruktionen sind architektonische Eingriffe\, die das Verhältnis von Mensch\, Material und Umgebung konfrontativ neu verhandeln. Aus Stahl\, Aluminium und Holz entstehen Monumente der Dynamik – erstarrte Augenblicke extremer Bewegung zwischen Looping und radikalem Schnitt. \nBei den «billboards am see» reduziert sich diese raumgreifende Wucht auf die Fläche. Die Fotografien von fünf Projekten des Duos fungieren als visuelles Surrogat: Sie dokumentieren die ursprüngliche Provokation und lassen ihr Echo am Bodenseeufer nachhallen. Auf den Billboards leben die Grossplastiken\, eingebettet in ihre originale Landschaft\, in einem veränderten Kontext nochmals im öffentlichen Raum auf. (Bild: pd kfr)
URL:https://rorschacherecho.ch/event/billboards-am-see-bildstein-glatz-offsite-echo/
LOCATION:Kornhausplatz Seepromenade\, Seepromenade\, Rorschach\, 9400
CATEGORIES:Kultur
ATTACH;FMTTYPE=image/jpeg:https://rorschacherecho.ch/v2/wp-content/uploads/2026/04/img-3084-1-scaled.jpeg
ORGANIZER;CN="KulturFr%C3%BChling Rorschach":MAILTO:info@kulturfruehling.ch
END:VEVENT
BEGIN:VEVENT
DTSTART;TZID=Europe/Zurich:20260601T110000
DTEND;TZID=Europe/Zurich:20270214T170000
DTSTAMP:20260424T022259
CREATED:20240924T082416Z
LAST-MODIFIED:20240924T082416Z
UID:10006460-1780311600-1802624400@rorschacherecho.ch
SUMMARY:Sport und Freizeit in Werken der Sammlung Würth
DESCRIPTION:Die Hauptausstellung widmet sich dem Phänomen des Spiels als schöpferischer Erfahrung – vom kindlichen Vergnügen bis zum Gesellschaftsspiel.\nDie neue Hauptausstellung im Forum Würth Rorschach beschäftigt sich mit Freuden und Herausforderungen\, welche Freizeitaktivitäten\, ob Sport oder Spiel mit sich bringen. Schliesslich bietet dieser Zeitvertreib nicht nur Bewegung und willkommene Abwechslung im Alltag\, sondern auch Freiräume für neue Impulse sowie Inspirationen und spielt somit eine wichtige Rolle im kreativen Prozess. \nDie Mussestunden jenseits festgelegter Spielregeln\, Zerstreuungen in unbekümmerter Freiheit\, Tagträume\, das Sich–Treibenlassen\, Umherschlendern\, Chillen oder Herumalbern prägen unser Freizeitverhalten und finden ihren Ausdruck in vielfältigen künstlerischen Formulierungen. \nIst die Kunstwelt am Ende vielleicht sogar der ultimative Spielplatz? Und ist der Geist des Wettbewerbs nicht nur in der modernen Gesellschaft\, sondern auch im künstlerischen Milieu allgegenwärtig? Nebst den klassischen sportlichen Aktivitäten und Freizeitbeschäftigungen\, die auch rund um das Würth Haus Rorschach am Bodenseeufer zu beobachten sind\, wie Schwimmen\, Segeln oder Radfahren\, widmet sich die Hauptausstellung dem Phänomen des Spiels als schöpferischer Erfahrung – vom kindlichen Vergnügen bis zum Gesellschaftsspiel. \n18.3.2025 – 31.3.2025 | 11:00 – 17:00 | Di\,Mi\,Do\,Fr\,Sa\,So\n1.4.2025 – 30.9.2025 | 10:00 – 18:00\n1.10.2025 – 31.3.2026 | 11:00 – 17:00 | Di\,Mi\,Do\,Fr\,Sa\,So\n1.4.2026 – 30.9.2026 | 10:00 – 18:00\n1.10.2026 – 14.2.2027 | 11:00 – 17:00 | Di\,Mi\,Do\,Fr\,Sa\,So
URL:https://rorschacherecho.ch/event/sport-und-freizeit-in-werken-der-sammlung-wuerth/
LOCATION:Forum Würth Rorschach\, Forum Würth Rorschach\, Churerstrasse 10\, Rorschach\, 9400
CATEGORIES:Kultur
ATTACH;FMTTYPE=image/jpeg:https://rorschacherecho.ch/v2/wp-content/uploads/2024/09/584e85633def0e112eb54aff7818a60c6864d2e5-8284686041-4.jpg
ORGANIZER;CN="Forum W%C3%BCrth Rorschach":MAILTO:rorschach@forum-wuerth.ch
END:VEVENT
BEGIN:VEVENT
DTSTART;TZID=Europe/Zurich:20260925T140000
DTEND;TZID=Europe/Zurich:20260925T160000
DTSTAMP:20260424T022259
CREATED:20260330T130810Z
LAST-MODIFIED:20260330T130810Z
UID:10014029-1790344800-1790352000@rorschacherecho.ch
SUMMARY:ErzählCafé: Entdecken – wie Neues uns begeistert und bewegt
DESCRIPTION:Geschichten erzählen\, zuhören\, verbinden \nTiefgründige Gespräche sind selten – und deshalb besonders wertvoll. Im ErzählCafé geht es ums echte Leben: Wir teilen Geschichten\, die uns bewegen\, stärken oder uns einfach zum Lachen bringen. Dabei hören wir einander zu und entdecken die ganz persönlichen Lebenswelten der anderen. \nHier treffen Sie Menschen\, denen Sie sonst vielleicht nie begegnet wären. Vorkenntnisse brauchen Sie keine – jede Geschichte ist spannend und verdient es\, erzählt zu werden. Die Moderatorin führt mit einem Kunstwerk ins Thema ein und eröffnet so die Runde für persönliche Gespräche. Alle hören einander zu\, ohne zu werten\, lassen sich inspirieren\, berühren oder einfach überraschen. Und das Schönste: Das Lachen kommt garantiert nicht zu kurz! \nTHEMA: ENTDECKEN – WIE NEUES UNS BEGEISTERT UND BEWEGT\nFreizeit bietet die Chance\, Neues zu entdecken – eine Stadt\, ein Hobby\, ein kreatives Projekt oder einfach eine andere Perspektive auf den Alltag. Solche Entdeckungen schenken Energie\, Neugier und Lebensfreude. Jede und jeder hat eigene Erlebnisse\, die inspirieren und motivieren können\, neue Wege auszuprobieren. Begleitet von Impulsen aus der Ausstellung «Sport und Freizeit in Werken der Sammlung Würth» öffnen wir einen Raum für Austausch\, Geschichten und kleine Aha-Momente. \nEintritt frei \nWeitere Info: Anmeldung bis 2 Tage vor der Veranstaltung unter rorschach@forum-wuerth.ch. (Text/Bild: pd würth)
URL:https://rorschacherecho.ch/event/erzaehlcafe-entdecken-wie-neues-uns-begeistert-und-bewegt/
LOCATION:Forum Würth Rorschach\, Forum Würth Rorschach\, Churerstrasse 10\, Rorschach\, 9400
CATEGORIES:Kultur
ATTACH;FMTTYPE=image/jpeg:https://rorschacherecho.ch/v2/wp-content/uploads/2026/03/b1269ed9bfa475925053367ffb885e04a9527a7e-9230736391.jpg
ORGANIZER;CN="Forum W%C3%BCrth Rorschach":MAILTO:rorschach@forum-wuerth.ch
END:VEVENT
BEGIN:VEVENT
DTSTART;TZID=Europe/Zurich:20260925T200000
DTEND;TZID=Europe/Zurich:20260925T221500
DTSTAMP:20260424T022259
CREATED:20260330T130547Z
LAST-MODIFIED:20260330T130547Z
UID:10014030-1790366400-1790374500@rorschacherecho.ch
SUMMARY:Pippo Pollina - «La vita è bella così com'è»
DESCRIPTION:Pippo Pollina mit kammermusikalischem Quartett in concerto. \nDer vielseitige sizilianische Musiker Pippo Pollina ist als einer der kreativsten Künstler in der europäischen Singer-Songwriter-Szene unterwegs\, und dies seit mehr als dreissig Jahren. \nUnzählige Plattenproduktionen\, internationale Tourneen\, prestigeträchtige Kollaborationen verleihen ihm einen besonderen Status\, den er sich durch Kontinuität und Engagement sowohl im Studio als auch live auf der Bühne erarbeitet hat. \nBegleitet von der Cellistin Cecile Grüebler\, der Pianistin Elisa Sandrini\, dem Klarinettisten Roberto Petroli und dem Percussionisten Gionata Colaprisca hat er im Dezember 2025 ein neues Album herausgebracht und geht mit diesem virtuosen Projekt im Jahr 2026 auf Tour. \nGesang\, Gitarre: Pippo Pollina\nCello: Cecile Grüebler\nAm Flügel: Elisa Sandrini\nKlarinette\, Sax: Roberto Petroli\nPercussion: Gionata Colaprisca \nCHF 55.00 \nWeitere Info: Tickets im Würth Haus Rorschach (Mo‒Fr) oder online. (Text/Bild: pd würth)
URL:https://rorschacherecho.ch/event/pippo-pollina-la-vita-e-bella-cosi-come/
LOCATION:Würth Haus Rorschach\, Churerstrasse 10\, Rorschach\, Schweiz
CATEGORIES:Kultur
ATTACH;FMTTYPE=image/jpeg:https://rorschacherecho.ch/v2/wp-content/uploads/2026/03/0b048dc871230f2355556c535366694273df2c48-9230736441.jpg
ORGANIZER;CN="W%C3%BCrth Haus Rorschach":MAILTO:events@wuerth-management.com
END:VEVENT
END:VCALENDAR