BEGIN:VCALENDAR
VERSION:2.0
PRODID:-//Rorschacher Echo - ECPv6.15.20//NONSGML v1.0//EN
CALSCALE:GREGORIAN
METHOD:PUBLISH
X-ORIGINAL-URL:https://rorschacherecho.ch
X-WR-CALDESC:Veranstaltungen für Rorschacher Echo
REFRESH-INTERVAL;VALUE=DURATION:PT1H
X-Robots-Tag:noindex
X-PUBLISHED-TTL:PT1H
BEGIN:VTIMEZONE
TZID:Europe/Zurich
BEGIN:DAYLIGHT
TZOFFSETFROM:+0100
TZOFFSETTO:+0200
TZNAME:CEST
DTSTART:20250330T010000
END:DAYLIGHT
BEGIN:STANDARD
TZOFFSETFROM:+0200
TZOFFSETTO:+0100
TZNAME:CET
DTSTART:20251026T010000
END:STANDARD
BEGIN:DAYLIGHT
TZOFFSETFROM:+0100
TZOFFSETTO:+0200
TZNAME:CEST
DTSTART:20260329T010000
END:DAYLIGHT
BEGIN:STANDARD
TZOFFSETFROM:+0200
TZOFFSETTO:+0100
TZNAME:CET
DTSTART:20261025T010000
END:STANDARD
BEGIN:DAYLIGHT
TZOFFSETFROM:+0100
TZOFFSETTO:+0200
TZNAME:CEST
DTSTART:20270328T010000
END:DAYLIGHT
BEGIN:STANDARD
TZOFFSETFROM:+0200
TZOFFSETTO:+0100
TZNAME:CET
DTSTART:20271031T010000
END:STANDARD
END:VTIMEZONE
BEGIN:VEVENT
DTSTART;VALUE=DATE:20260508
DTEND;VALUE=DATE:20260511
DTSTAMP:20260423T111304
CREATED:20251124T163923Z
LAST-MODIFIED:20251124T163923Z
UID:10012140-1778198400-1778457599@rorschacherecho.ch
SUMMARY:"Deine Herztrommel bauen"
DESCRIPTION:Die Initiantin schreibt dazu: „In diesen 3 Tagen baust du mit deinen Händen und deiner Energie deine persönliche Schamanentrommel. Der schamanische Trommelbaukurs findet in einer Gruppe von max.10 Teilnehmern statt. Die Schamanentrommel ist eines der ältesten Instrumente auf Erden. Die Rahmentrommel ist nach der Tradition der Hopi gebaut. Sie wird aus dem Geschenk der Tier -und Pflanzenwelt nach Grundlage der Kompassrose gebaut. Deine Herztrommel führt dich wie dein innerer Kompass durch dein Leben. Kurs: inkl. Material & Verpflegung & Übernachtung.“ \nMehr Infos dazu finden Interessierte auch hier.
URL:https://rorschacherecho.ch/event/deine-herztrommel-bauen/
LOCATION:Höfli\,Krenne53\,Wienacht-Tobel\, Krenne\, Wienacht-Tobel\, 9427\, Schweiz
CATEGORIES:Lokales Gewerbe
ATTACH;FMTTYPE=image/png:https://rorschacherecho.ch/v2/wp-content/uploads/2025/11/bildschirmfoto-2021-05-26-um-145426-1.png
ORGANIZER;CN="Haus25 Bernadette Lutz 9400 Rorschach":MAILTO:lichtarbeit@haus25.ch
END:VEVENT
BEGIN:VEVENT
DTSTART;TZID=Europe/Zurich:20260509T200000
DTEND;TZID=Europe/Zurich:20260509T223000
DTSTAMP:20260423T111304
CREATED:20260402T155520Z
LAST-MODIFIED:20260402T155520Z
UID:10014050-1778356800-1778365800@rorschacherecho.ch
SUMMARY:Frühlingskonzert Stadtharmonie Eintracht Rorschach
DESCRIPTION:Unter dem Motto «Üs ghört d’Nacht» lädt die Stadtharmonie Eintracht Rorschach zu ihrem Frühlingskonzert ein. Das Publikum darf sich auf einen musikalischen Abend voller belebender Sounds\, energiegeladener Rhythmen und bekannter Hits zum Mitsingen\, Tanzen und Geniessen freuen – ergänzt durch sanfte Klänge\, die die besondere Atmosphäre eines Sommerabends an der Rorschacher Seepromenade widerspiegeln. \nDas Konzert findet am Samstag\, 9. Mai 2026\, um 20.00 Uhr im Stadthofsaal Rorschach statt. Türöffnung und Festwirtschaft sind ab 18.30 Uhr. Die musikalische Leitung übernimmt Suso Mattle\, unterstützt von den Tambouren unter Daniel Kern\, moderiert von Gregor Thurnherr. \nDer Eintritt kostet CHF 15.–. Platzreservationen sind per E-Mail an markus_luechinger@bluewin.ch möglich.
URL:https://rorschacherecho.ch/event/fruehlingskonzert-stadtharmonie-eintracht-rorschach/
LOCATION:Stadthof Rorschach\, Kirchstrasse 9\, 9400
CATEGORIES:Kultur
ATTACH;FMTTYPE=image/jpeg:https://rorschacherecho.ch/v2/wp-content/uploads/2026/04/2026-flyer-us-gehort-die-nacht.jpg
END:VEVENT
END:VCALENDAR