BEGIN:VCALENDAR
VERSION:2.0
PRODID:-//Rorschacher Echo - ECPv6.15.20//NONSGML v1.0//EN
CALSCALE:GREGORIAN
METHOD:PUBLISH
X-ORIGINAL-URL:https://rorschacherecho.ch
X-WR-CALDESC:Veranstaltungen für Rorschacher Echo
REFRESH-INTERVAL;VALUE=DURATION:PT1H
X-Robots-Tag:noindex
X-PUBLISHED-TTL:PT1H
BEGIN:VTIMEZONE
TZID:Europe/Zurich
BEGIN:DAYLIGHT
TZOFFSETFROM:+0100
TZOFFSETTO:+0200
TZNAME:CEST
DTSTART:20250330T010000
END:DAYLIGHT
BEGIN:STANDARD
TZOFFSETFROM:+0200
TZOFFSETTO:+0100
TZNAME:CET
DTSTART:20251026T010000
END:STANDARD
BEGIN:DAYLIGHT
TZOFFSETFROM:+0100
TZOFFSETTO:+0200
TZNAME:CEST
DTSTART:20260329T010000
END:DAYLIGHT
BEGIN:STANDARD
TZOFFSETFROM:+0200
TZOFFSETTO:+0100
TZNAME:CET
DTSTART:20261025T010000
END:STANDARD
BEGIN:DAYLIGHT
TZOFFSETFROM:+0100
TZOFFSETTO:+0200
TZNAME:CEST
DTSTART:20270328T010000
END:DAYLIGHT
BEGIN:STANDARD
TZOFFSETFROM:+0200
TZOFFSETTO:+0100
TZNAME:CET
DTSTART:20271031T010000
END:STANDARD
END:VTIMEZONE
BEGIN:VEVENT
DTSTART;TZID=Europe/Zurich:20260506T140000
DTEND;TZID=Europe/Zurich:20260506T150000
DTSTAMP:20260423T124102
CREATED:20260330T120015Z
LAST-MODIFIED:20260330T120015Z
UID:10012354-1778076000-1778079600@rorschacherecho.ch
SUMMARY:Öffentlicher Seniorenrundgang
DESCRIPTION:Senioren führen Senioren \nDas engagierte Team von «Senioren führen Senioren» bringt Ihnen mit viel Begeisterung und Kompetenz die aktuellen Ausstellungen im Forum Würth Rorschach näher. Gemeinsame Bildbetrachtungen und persönlicher Austausch stehen dabei im Mittelpunkt. Erinnerungen\, Gedanken und Erfahrungen finden hier genauso ihren Platz\, wie das Staunen und Entdecken. Erleben Sie Kunst auf Augenhöhe und im angemessenen Tempo – ganz ohne Eile! \nTreffpunkt und Bezahlung im Kunstshop. \nCHF 3.00 \nWeitere Info: Anmeldung bis Montag vor der Veranstaltung unter rorschach@forum-wuerth.ch. (Text/Bild: pd würth)
URL:https://rorschacherecho.ch/event/oeffentlicher-seniorenrundgang-2/2026-05-06/
LOCATION:Forum Würth Rorschach\, Forum Würth Rorschach\, Churerstrasse 10\, Rorschach\, 9400
CATEGORIES:Kultur
ATTACH;FMTTYPE=image/jpeg:https://rorschacherecho.ch/v2/wp-content/uploads/2026/03/c247999fe5a347adb7e8abec32abdd76e003a6c1-8933045611.jpg
ORGANIZER;CN="Forum W%C3%BCrth Rorschach":MAILTO:rorschach@forum-wuerth.ch
END:VEVENT
BEGIN:VEVENT
DTSTART;TZID=Europe/Zurich:20260506T180000
DTEND;TZID=Europe/Zurich:20260506T200000
DTSTAMP:20260423T124102
CREATED:20260330T115232Z
LAST-MODIFIED:20260330T115323Z
UID:10012972-1778090400-1778097600@rorschacherecho.ch
SUMMARY:Vernissage: «Lun Tuchnowski & Friends»
DESCRIPTION:Bildhauerei im Fokus der Sammlung Würth. \nLun Tuchnowski (1946-2018) zählt zu den Künstlern\, die zwei wesentliche bildhauerische Auffassungen des 20. Jahrhunderts miteinander verbanden: geometrische und organisch-figurative Formensprache. Mit spielerischer\, oft humorvoller Leichtigkeit liess er diese Gegensätze aufeinandertreffen und «geradezu lustvoll das scheinbar Unvereinbare miteinander konkurrieren und dialogisieren» (Lothar Romain). Geschwungene Formen\, die wie Fühler oder Tentakel in den Raum greifen\, durchbrechen klare geometrische Konturen und betonen den Hang zum Leichten und Schwerelosen\, der für Tuchnowskis Werk so charakteristisch ist. Der Bildhauer\, der lange in München lebte und dort sein Atelier führte\, arbeitete mit einer aussergewöhnlich breiten Palette an Materialien – von Aluminium\, Zink\, Stahl und Bronze bis hin zu Holz\, Beton\, Kunststoff und Gips. \nAnlässlich seines 80. Geburtstags würdigt das Forum Würth Rorschach diesen Künstler\, der wie kaum ein anderer über viele Jahre eng mit der Sammlung Würth verbunden war. Die Ausstellung «Lun Tuchnowski & Friends» widmet sich den zentralen Schaffensphasen des Künstlers und stellt seinen Werken ausgewählte Wahlverwandtschaften und Wegbegleiter an die Seite. \nEintritt frei \nWeitere Info: Anmeldung bis 29. April 2026 online. (Text/Bild: pd würth)
URL:https://rorschacherecho.ch/event/vernissage-lun-tuchnowski-friends/
LOCATION:Forum Würth Rorschach\, Forum Würth Rorschach\, Churerstrasse 10\, Rorschach\, 9400
CATEGORIES:Kultur
ATTACH;FMTTYPE=image/jpeg:https://rorschacherecho.ch/v2/wp-content/uploads/2026/03/c1c2590ab4d22e9fdc06ca5766b9fe6c4bb3788e-9229223321.jpg
ORGANIZER;CN="Forum W%C3%BCrth Rorschach":MAILTO:rorschach@forum-wuerth.ch
END:VEVENT
BEGIN:VEVENT
DTSTART;TZID=Europe/Zurich:20260506T190000
DTEND;TZID=Europe/Zurich:20260506T210000
DTSTAMP:20260423T124102
CREATED:20260321T204149Z
LAST-MODIFIED:20260321T204149Z
UID:10012345-1778094000-1778101200@rorschacherecho.ch
SUMMARY:Regionale Maiandacht : Maria eine selbstbestimmte Frau?
DESCRIPTION:„Herzliche Einladung an alle zu unserer Maiandacht\, in der wir der Frage nachgehen: Wieviel Freiheit haben wir bei Entscheidungen vor Gott?\nAnschliessend an die Maiandacht gemütliches Beisammensein im Zentrum St. Kolumban.“\nAuskunft: Ursula Oesch\, uoesch@bluewin.ch oder 071 855 12 70. (Bild: pd fgrrb)
URL:https://rorschacherecho.ch/event/regionale-maiandacht-maria-eine-selbstbestimmte-frau/
LOCATION:Kolumbanskirche Rorschach\, Schweiz
CATEGORIES:Kultur
ATTACH;FMTTYPE=image/jpeg:https://rorschacherecho.ch/v2/wp-content/uploads/2026/03/pexels-asphotography-96627-scaled.jpg
ORGANIZER;CN="Frauengemeinschaft Rorschach-Rorschacherberg":MAILTO:uoesch@bluewin.ch
END:VEVENT
END:VCALENDAR