BEGIN:VCALENDAR
VERSION:2.0
PRODID:-//Rorschacher Echo - ECPv6.15.20//NONSGML v1.0//EN
CALSCALE:GREGORIAN
METHOD:PUBLISH
X-WR-CALNAME:Rorschacher Echo
X-ORIGINAL-URL:https://rorschacherecho.ch
X-WR-CALDESC:Veranstaltungen für Rorschacher Echo
REFRESH-INTERVAL;VALUE=DURATION:PT1H
X-Robots-Tag:noindex
X-PUBLISHED-TTL:PT1H
BEGIN:VTIMEZONE
TZID:Europe/Zurich
BEGIN:DAYLIGHT
TZOFFSETFROM:+0100
TZOFFSETTO:+0200
TZNAME:CEST
DTSTART:20250330T010000
END:DAYLIGHT
BEGIN:STANDARD
TZOFFSETFROM:+0200
TZOFFSETTO:+0100
TZNAME:CET
DTSTART:20251026T010000
END:STANDARD
BEGIN:DAYLIGHT
TZOFFSETFROM:+0100
TZOFFSETTO:+0200
TZNAME:CEST
DTSTART:20260329T010000
END:DAYLIGHT
BEGIN:STANDARD
TZOFFSETFROM:+0200
TZOFFSETTO:+0100
TZNAME:CET
DTSTART:20261025T010000
END:STANDARD
BEGIN:DAYLIGHT
TZOFFSETFROM:+0100
TZOFFSETTO:+0200
TZNAME:CEST
DTSTART:20270328T010000
END:DAYLIGHT
BEGIN:STANDARD
TZOFFSETFROM:+0200
TZOFFSETTO:+0100
TZNAME:CET
DTSTART:20271031T010000
END:STANDARD
END:VTIMEZONE
BEGIN:VEVENT
DTSTART;TZID=Europe/Zurich:20260423T133000
DTEND;TZID=Europe/Zurich:20260423T160000
DTSTAMP:20260423T052625
CREATED:20260420T043055Z
LAST-MODIFIED:20260420T084922Z
UID:10014067-1776951000-1776960000@rorschacherecho.ch
SUMMARY:Im Warteggpark wird "GEPUTZT"
DESCRIPTION:Helferinnen und Helfer gesucht. Ruth Gradenecker schreibt dazu: \n„Wir werden am Donnerstag\, 23. April 2026 von 13.30 bis 16.00 Uhr arbeiten. Zum Ausklang gibt es Kaffee und Kuchen. Am Samstag\, 25. April wird von 10.00 Uhr bis ca 14.00 Uhr gearbeitet. Es wird ein kleiner Imbiss organisiert\, Getränke selber mitnehmen. \nIm Warteggpark stehen einige Arbeiten an Laub zusammen nehme\, Widen flechten und Brombeerranken ausstechen\, vor allem im Stiftungsgebiet. Deshalb brauchen wir dringend noch einige helfende Hände. Wir treffen uns beim Toreingang von der Warteggstrasse. \nAm Sonntag 26. April 2026 ist von 9.00 Uhr bis 16.00 Uhr Setzlingsmarkt 2026 rund ums Schloss. Falls das Wetter unsicher ist werde ich per Mail am Vorabend absagen. Danke euch allen für die Unterstützung und bis bald Förderverein Warteggpark.“
URL:https://rorschacherecho.ch/event/im-warteggpark-wird-geputzt/2026-04-23/
LOCATION:Warteggpark Rorschacherberg\, Schloss Wartegg\, Rorschacherberg\, 9404
CATEGORIES:Kultur
ATTACH;FMTTYPE=image/jpeg:https://rorschacherecho.ch/v2/wp-content/uploads/2026/04/img-2725-scaled.jpeg
ORGANIZER;CN="F&ouml%3Brderverein Warteggpark":MAILTO:verein@warteggpark.ch
END:VEVENT
BEGIN:VEVENT
DTSTART;TZID=Europe/Zurich:20260423T140000
DTEND;TZID=Europe/Zurich:20260423T160000
DTSTAMP:20260423T052625
CREATED:20251111T165108Z
LAST-MODIFIED:20251111T165108Z
UID:10011815-1776952800-1776960000@rorschacherecho.ch
SUMMARY:Stricken/Häkeln & ALPAKA-Lädeli\, Lutzenberg
DESCRIPTION:„Wir kreieren zusammen Handschuhe\, Mützen\, Taschen\, Finken\, Sauerteig-Brot\, Natur-Seifen\, usw. für CHF 20.- pro Handwerk (exkl. Material)\, mit Anmeldung (078 855 90 09 oder WhatsApp)“. (Bild: pd)
URL:https://rorschacherecho.ch/event/stricken-haekeln-alpaka-laedeli-lutzenberg/2026-04-23/
LOCATION:Lutzenberg\, Gstell 749\, Lutzenberg\, 9426
CATEGORIES:Lokales Gewerbe
ATTACH;FMTTYPE=image/jpeg:https://rorschacherecho.ch/v2/wp-content/uploads/2025/11/1000129674.jpg
ORGANIZER;CN="WOOLart.shop":MAILTO:nadiarohner@bluewin.ch
END:VEVENT
BEGIN:VEVENT
DTSTART;TZID=Europe/Zurich:20260423T190000
DTEND;TZID=Europe/Zurich:20260423T203000
DTSTAMP:20260423T052625
CREATED:20231024T122255Z
LAST-MODIFIED:20240208T120934Z
UID:10003389-1776970800-1776976200@rorschacherecho.ch
SUMMARY:Kundalini Yoga
DESCRIPTION:Dieses äusserst kreative Yogasystem besteht aus Variationen der klassischen 84 Körperhaltungen (Asanas)\, die in festgelegten Übungsreihen (Kriyas) unterschiedlichste Erfahrungen ermöglichen. Atemführung (Pranayam) spielt dabei eine fundamentale Rolle. Die zwei Hauptformen sind der lange tiefe Atem (beruhigend) und der Feueratem (belebend). Die Wissenschaft des Klangs (Naad) wird im KY über Chanten\, aber auch über den Einsatz von Musik zu den Kriyas und in den Meditationen eingesetzt. Die Tiefenentspannung (Shavasana) ist eine Königshaltung. Erst im Zustand der Ruhe können sich die erweckten Impulse auf allen Ebenen des Seins entfalten.\nAuf körperlicher Ebene kurbelt Kundalini Yoga den Blut- und Kreislauf an\, stärkt das Nervensystem\, kräftigt das Drüsen- und Immunsystem\, regt die Verdauungsorgane an\, trainiert umfassend den Bewegungsapparat – insbesondere die Wirbelsäule – unterstützt einzelne Organe gezielt in ihrer Funktion und schult die Ausdauer. Auf höherer Ebene geht es im Kundalini Yoga (Yoga = Vereinigung\, Verbindung) darum\, ins wahre Bewusstsein zu kommen. \nDas findet neu im „dance4you“ an der Kirchstrasse 13A in Rorschach statt.
URL:https://rorschacherecho.ch/event/kundalini-yoga/2026-04-23/
LOCATION:dance4you\, Kirchstrasse 13A\, Rorschach\, Signalstrasse 15\, Rorschach\, 9400
CATEGORIES:Sport
ATTACH;FMTTYPE=image/jpeg:https://rorschacherecho.ch/v2/wp-content/uploads/2023/10/shuniya-logoblumeschriftzugclaim.jpeg
ORGANIZER;CN="Hanspeter W%C3%B6hrle":MAILTO:hp.woehrle@shuniya.ch
END:VEVENT
END:VCALENDAR